BEGIN:VCALENDAR
VERSION:2.0
PRODID:-//Discover Northamptonshire - ECPv6.15.18//NONSGML v1.0//EN
CALSCALE:GREGORIAN
METHOD:PUBLISH
X-ORIGINAL-URL:https://discover-northamptonshire.co.uk
X-WR-CALDESC:Events for Discover Northamptonshire
REFRESH-INTERVAL;VALUE=DURATION:PT1H
X-Robots-Tag:noindex
X-PUBLISHED-TTL:PT1H
BEGIN:VTIMEZONE
TZID:Europe/London
BEGIN:DAYLIGHT
TZOFFSETFROM:+0000
TZOFFSETTO:+0100
TZNAME:BST
DTSTART:20250330T010000
END:DAYLIGHT
BEGIN:STANDARD
TZOFFSETFROM:+0100
TZOFFSETTO:+0000
TZNAME:GMT
DTSTART:20251026T010000
END:STANDARD
BEGIN:DAYLIGHT
TZOFFSETFROM:+0000
TZOFFSETTO:+0100
TZNAME:BST
DTSTART:20260329T010000
END:DAYLIGHT
BEGIN:STANDARD
TZOFFSETFROM:+0100
TZOFFSETTO:+0000
TZNAME:GMT
DTSTART:20261025T010000
END:STANDARD
BEGIN:DAYLIGHT
TZOFFSETFROM:+0000
TZOFFSETTO:+0100
TZNAME:BST
DTSTART:20270328T010000
END:DAYLIGHT
BEGIN:STANDARD
TZOFFSETFROM:+0100
TZOFFSETTO:+0000
TZNAME:GMT
DTSTART:20271031T010000
END:STANDARD
END:VTIMEZONE
BEGIN:VEVENT
DTSTART;VALUE=DATE:20260501
DTEND;VALUE=DATE:20260502
DTSTAMP:20260426T014914
CREATED:20251204T153056Z
LAST-MODIFIED:20251209T125919Z
UID:10024190-1777593600-1777679999@discover-northamptonshire.co.uk
SUMMARY:NSRA Nostalgia Nationals
DESCRIPTION:The Nostalgia Nationals brings together the sights\, sounds\, and smells of classic drag racing\, with Pre-’73 hot rods and kustoms mixing it up with front-engine dragsters\, altereds\, and doorslammers. \nOff the track you’ll find live entertainment\, traders with everything from rare parts to retro gear\, and the ever-popular power parking show area. With camping on site\, it’s a full weekend celebration of 30 years of nostalgia!
URL:https://discover-northamptonshire.co.uk/event/nsra-nostalgia-nationals/
LOCATION:Santa Pod\, Airfield Rd\, Podington\, Wellingborough\, NN29 7XA
CATEGORIES:Cars,Family friendly,Motorsport
ATTACH;FMTTYPE=image/jpeg:https://discover-northamptonshire.co.uk/wp-content/uploads/2025/12/nostalgianats26-rb-share.jpg
END:VEVENT
BEGIN:VEVENT
DTSTART;VALUE=DATE:20260502
DTEND;VALUE=DATE:20260503
DTSTAMP:20260426T014914
CREATED:20251209T125942Z
LAST-MODIFIED:20251209T125942Z
UID:10024191-1777680000-1777766399@discover-northamptonshire.co.uk
SUMMARY:NSRA Nostalgia Nationals
DESCRIPTION:The Nostalgia Nationals brings together the sights\, sounds\, and smells of classic drag racing\, with Pre-’73 hot rods and kustoms mixing it up with front-engine dragsters\, altereds\, and doorslammers. \nOff the track you’ll find live entertainment\, traders with everything from rare parts to retro gear\, and the ever-popular power parking show area. With camping on site\, it’s a full weekend celebration of 30 years of nostalgia!
URL:https://discover-northamptonshire.co.uk/event/nsra-nostalgia-nationals-2/
LOCATION:Santa Pod\, Airfield Rd\, Podington\, Wellingborough\, NN29 7XA
CATEGORIES:Cars,Family friendly,Motorsport
ATTACH;FMTTYPE=image/jpeg:https://discover-northamptonshire.co.uk/wp-content/uploads/2025/12/nostalgianats26-rb-share.jpg
END:VEVENT
BEGIN:VEVENT
DTSTART;VALUE=DATE:20260503
DTEND;VALUE=DATE:20260504
DTSTAMP:20260426T014914
CREATED:20251209T130004Z
LAST-MODIFIED:20251209T130004Z
UID:10024192-1777766400-1777852799@discover-northamptonshire.co.uk
SUMMARY:NSRA Nostalgia Nationals
DESCRIPTION:The Nostalgia Nationals brings together the sights\, sounds\, and smells of classic drag racing\, with Pre-’73 hot rods and kustoms mixing it up with front-engine dragsters\, altereds\, and doorslammers. \nOff the track you’ll find live entertainment\, traders with everything from rare parts to retro gear\, and the ever-popular power parking show area. With camping on site\, it’s a full weekend celebration of 30 years of nostalgia!
URL:https://discover-northamptonshire.co.uk/event/nsra-nostalgia-nationals-3/
LOCATION:Santa Pod\, Airfield Rd\, Podington\, Wellingborough\, NN29 7XA
CATEGORIES:Cars,Family friendly,Motorsport
ATTACH;FMTTYPE=image/jpeg:https://discover-northamptonshire.co.uk/wp-content/uploads/2025/12/nostalgianats26-rb-share.jpg
END:VEVENT
BEGIN:VEVENT
DTSTART;VALUE=DATE:20260510
DTEND;VALUE=DATE:20260511
DTSTAMP:20260426T014914
CREATED:20251204T153210Z
LAST-MODIFIED:20251209T123438Z
UID:10024174-1778371200-1778457599@discover-northamptonshire.co.uk
SUMMARY:JapShow
DESCRIPTION:Whether you roll up in a modified Nissan Micra\, a race-prepped Evo\, a timeless classic Honda\, or a roaring GSXR\, JapShow welcomes every Japanese car and bike enthusiast. From the laid-back vibes of the Show & Shine Paddock\, full to the brim with stunning vehicles to the full-throttle action of public Run What Ya Brung – open to all Japanese machines – there’s something for every taste and speed. \nWhether you’re here to admire\, race or just soak in the culture\, JapShow is where the Japanese automotive scene comes to life.
URL:https://discover-northamptonshire.co.uk/event/japshow/
LOCATION:Santa Pod\, Airfield Rd\, Podington\, Wellingborough\, NN29 7XA
CATEGORIES:Cars,Family friendly,Motorsport
ATTACH;FMTTYPE=image/jpeg:https://discover-northamptonshire.co.uk/wp-content/uploads/2025/12/JP26-share.jpg
END:VEVENT
BEGIN:VEVENT
DTSTART;VALUE=DATE:20260515
DTEND;VALUE=DATE:20260516
DTSTAMP:20260426T014914
CREATED:20251204T153441Z
LAST-MODIFIED:20251209T130035Z
UID:10024193-1778803200-1778889599@discover-northamptonshire.co.uk
SUMMARY:Doorslammers
DESCRIPTION:It’s back and better than ever! \nOnce a highlight of the drag racing calendar in the ‘70s and ‘80s\, The Doorslammers has roared back to life. With a massive prize fund and seven heads-up classes alongside a monster Bracket class\, expect the competition to be fierce and the racing relentless. \nThe only thing bigger than the prize fund will be the bragging rights. \nDoorslammer tickets Include entry to VW Breakout – On the other side of the track from Doorslammers this weekend is VW Breakout! Featuring Live Music\, Show & Shine and more.
URL:https://discover-northamptonshire.co.uk/event/doorslammers/
LOCATION:Santa Pod\, Airfield Rd\, Podington\, Wellingborough\, NN29 7XA
CATEGORIES:Cars,Family friendly,Motorsport
ATTACH;FMTTYPE=image/jpeg:https://discover-northamptonshire.co.uk/wp-content/uploads/2025/12/DS26-share.jpg
END:VEVENT
BEGIN:VEVENT
DTSTART;VALUE=DATE:20260516
DTEND;VALUE=DATE:20260517
DTSTAMP:20260426T014914
CREATED:20251209T130108Z
LAST-MODIFIED:20251209T130108Z
UID:10024194-1778889600-1778975999@discover-northamptonshire.co.uk
SUMMARY:Doorslammers
DESCRIPTION:It’s back and better than ever! \nOnce a highlight of the drag racing calendar in the ‘70s and ‘80s\, The Doorslammers has roared back to life. With a massive prize fund and seven heads-up classes alongside a monster Bracket class\, expect the competition to be fierce and the racing relentless. \nThe only thing bigger than the prize fund will be the bragging rights. \nDoorslammer tickets Include entry to VW Breakout – On the other side of the track from Doorslammers this weekend is VW Breakout! Featuring Live Music\, Show & Shine and more.
URL:https://discover-northamptonshire.co.uk/event/doorslammers-2/
LOCATION:Santa Pod\, Airfield Rd\, Podington\, Wellingborough\, NN29 7XA
CATEGORIES:Cars,Family friendly,Motorsport
ATTACH;FMTTYPE=image/jpeg:https://discover-northamptonshire.co.uk/wp-content/uploads/2025/12/DS26-share.jpg
END:VEVENT
BEGIN:VEVENT
DTSTART;VALUE=DATE:20260517
DTEND;VALUE=DATE:20260518
DTSTAMP:20260426T014914
CREATED:20251209T130138Z
LAST-MODIFIED:20251209T130138Z
UID:10024195-1778976000-1779062399@discover-northamptonshire.co.uk
SUMMARY:Doorslammers
DESCRIPTION:It’s back and better than ever! \nOnce a highlight of the drag racing calendar in the ‘70s and ‘80s\, The Doorslammers has roared back to life. With a massive prize fund and seven heads-up classes alongside a monster Bracket class\, expect the competition to be fierce and the racing relentless. \nThe only thing bigger than the prize fund will be the bragging rights. \nDoorslammer tickets Include entry to VW Breakout – On the other side of the track from Doorslammers this weekend is VW Breakout! Featuring Live Music\, Show & Shine and more.
URL:https://discover-northamptonshire.co.uk/event/doorslammers-3/
LOCATION:Santa Pod\, Airfield Rd\, Podington\, Wellingborough\, NN29 7XA
CATEGORIES:Cars,Family friendly,Motorsport
ATTACH;FMTTYPE=image/jpeg:https://discover-northamptonshire.co.uk/wp-content/uploads/2025/12/DS26-share.jpg
END:VEVENT
BEGIN:VEVENT
DTSTART;VALUE=DATE:20260523
DTEND;VALUE=DATE:20260524
DTSTAMP:20260426T014914
CREATED:20251209T130328Z
LAST-MODIFIED:20251209T130328Z
UID:10024196-1779494400-1779580799@discover-northamptonshire.co.uk
SUMMARY:FIA/FIM Main Event
DESCRIPTION:It’s Round 1 of the FIA/FIM European Championships. That means hundreds of race teams\, some of the fastest cars and bikes in Europe\, and enough horsepower to make the ground shake. We’re talking 11\,000bhp Top Fuel Dragsters going from 0–100mph in less than a second. Racing doesn’t get more serious than this\, or bigger in scale. \nAnd it’s not just the racing that makes it special. There’s a full weekend of entertainment for all ages: jet cars\, monster trucks\, stunts\, music\, food\, and family fun. This is the ultimate family day out\, or the ultimate way to keep the kids quiet while you enjoy a bit of fierce competition.
URL:https://discover-northamptonshire.co.uk/event/fia-fim-main-event-2/
LOCATION:Santa Pod\, Airfield Rd\, Podington\, Wellingborough\, NN29 7XA
CATEGORIES:Cars,Family friendly,Food and Drink,Motorsport
ATTACH;FMTTYPE=image/jpeg:https://discover-northamptonshire.co.uk/wp-content/uploads/2025/12/ME26-share.jpg
END:VEVENT
BEGIN:VEVENT
DTSTART;VALUE=DATE:20260524
DTEND;VALUE=DATE:20260525
DTSTAMP:20260426T014914
CREATED:20251209T130348Z
LAST-MODIFIED:20251209T130348Z
UID:10024197-1779580800-1779667199@discover-northamptonshire.co.uk
SUMMARY:FIA/FIM Main Event
DESCRIPTION:It’s Round 1 of the FIA/FIM European Championships. That means hundreds of race teams\, some of the fastest cars and bikes in Europe\, and enough horsepower to make the ground shake. We’re talking 11\,000bhp Top Fuel Dragsters going from 0–100mph in less than a second. Racing doesn’t get more serious than this\, or bigger in scale. \nAnd it’s not just the racing that makes it special. There’s a full weekend of entertainment for all ages: jet cars\, monster trucks\, stunts\, music\, food\, and family fun. This is the ultimate family day out\, or the ultimate way to keep the kids quiet while you enjoy a bit of fierce competition.
URL:https://discover-northamptonshire.co.uk/event/fia-fim-main-event-3/
LOCATION:Santa Pod\, Airfield Rd\, Podington\, Wellingborough\, NN29 7XA
CATEGORIES:Cars,Family friendly,Food and Drink,Motorsport
ATTACH;FMTTYPE=image/jpeg:https://discover-northamptonshire.co.uk/wp-content/uploads/2025/12/ME26-share.jpg
END:VEVENT
BEGIN:VEVENT
DTSTART;VALUE=DATE:20260525
DTEND;VALUE=DATE:20260526
DTSTAMP:20260426T014914
CREATED:20251209T130409Z
LAST-MODIFIED:20251209T130409Z
UID:10024198-1779667200-1779753599@discover-northamptonshire.co.uk
SUMMARY:FIA/FIM Main Event
DESCRIPTION:It’s Round 1 of the FIA/FIM European Championships. That means hundreds of race teams\, some of the fastest cars and bikes in Europe\, and enough horsepower to make the ground shake. We’re talking 11\,000bhp Top Fuel Dragsters going from 0–100mph in less than a second. Racing doesn’t get more serious than this\, or bigger in scale. \nAnd it’s not just the racing that makes it special. There’s a full weekend of entertainment for all ages: jet cars\, monster trucks\, stunts\, music\, food\, and family fun. This is the ultimate family day out\, or the ultimate way to keep the kids quiet while you enjoy a bit of fierce competition.
URL:https://discover-northamptonshire.co.uk/event/fia-fim-main-event-4/
LOCATION:Santa Pod\, Airfield Rd\, Podington\, Wellingborough\, NN29 7XA
CATEGORIES:Cars,Family friendly,Food and Drink,Motorsport
ATTACH;FMTTYPE=image/jpeg:https://discover-northamptonshire.co.uk/wp-content/uploads/2025/12/ME26-share.jpg
END:VEVENT
BEGIN:VEVENT
DTSTART;VALUE=DATE:20260531
DTEND;VALUE=DATE:20260601
DTSTAMP:20260426T014914
CREATED:20251204T153931Z
LAST-MODIFIED:20251209T123350Z
UID:10024173-1780185600-1780271999@discover-northamptonshire.co.uk
SUMMARY:The Vauxhall Show
DESCRIPTION:Vauxhalls take over Santa Pod for a high-octane celebration of Britain’s beloved badge! From classic Vivas to modern VXRs\, The Vauxhall Show welcomes all things Griffin to the drag strip and showground alike. \nWhether you’re sporting a finely-tuned Astra\, a custom-built Corsa\, a rare Opel import\, or even a Holden with a Vauxhall twist — this is the event for you. Expect a full day of Vauxhall-only Run What Ya Brung (RWYB) action\, Show & Shine competition\, Car Club displays and plenty of chances to meet like-minded enthusiasts. \nFamed for their reliability\, affordability\, and surprising mod-ability\, Vauxhalls have earned their place in the hearts (and garages) of everyone from first-time drivers to seasoned petrolheads. The drag strip is calling — drop the clutch and test your machine’s mettle in a safe\, legal\, and adrenaline-filled environment!
URL:https://discover-northamptonshire.co.uk/event/the-vauxhall-show/
LOCATION:Santa Pod\, Airfield Rd\, Podington\, Wellingborough\, NN29 7XA
CATEGORIES:Cars,Family friendly,Motorsport,Outdoors
ATTACH;FMTTYPE=image/jpeg:https://discover-northamptonshire.co.uk/wp-content/uploads/2025/12/Vauxhall26-RB-share.jpg
END:VEVENT
END:VCALENDAR