BEGIN:VCALENDAR
VERSION:2.0
PRODID:-//Discover Northamptonshire - ECPv6.15.18//NONSGML v1.0//EN
CALSCALE:GREGORIAN
METHOD:PUBLISH
X-WR-CALNAME:Discover Northamptonshire
X-ORIGINAL-URL:https://discover-northamptonshire.co.uk
X-WR-CALDESC:Events for Discover Northamptonshire
REFRESH-INTERVAL;VALUE=DURATION:PT1H
X-Robots-Tag:noindex
X-PUBLISHED-TTL:PT1H
BEGIN:VTIMEZONE
TZID:Europe/London
BEGIN:DAYLIGHT
TZOFFSETFROM:+0000
TZOFFSETTO:+0100
TZNAME:BST
DTSTART:20250330T010000
END:DAYLIGHT
BEGIN:STANDARD
TZOFFSETFROM:+0100
TZOFFSETTO:+0000
TZNAME:GMT
DTSTART:20251026T010000
END:STANDARD
BEGIN:DAYLIGHT
TZOFFSETFROM:+0000
TZOFFSETTO:+0100
TZNAME:BST
DTSTART:20260329T010000
END:DAYLIGHT
BEGIN:STANDARD
TZOFFSETFROM:+0100
TZOFFSETTO:+0000
TZNAME:GMT
DTSTART:20261025T010000
END:STANDARD
BEGIN:DAYLIGHT
TZOFFSETFROM:+0000
TZOFFSETTO:+0100
TZNAME:BST
DTSTART:20270328T010000
END:DAYLIGHT
BEGIN:STANDARD
TZOFFSETFROM:+0100
TZOFFSETTO:+0000
TZNAME:GMT
DTSTART:20271031T010000
END:STANDARD
END:VTIMEZONE
BEGIN:VEVENT
DTSTART;VALUE=DATE:20260501
DTEND;VALUE=DATE:20260502
DTSTAMP:20260426T015022
CREATED:20251204T153056Z
LAST-MODIFIED:20251209T125919Z
UID:10024190-1777593600-1777679999@discover-northamptonshire.co.uk
SUMMARY:NSRA Nostalgia Nationals
DESCRIPTION:The Nostalgia Nationals brings together the sights\, sounds\, and smells of classic drag racing\, with Pre-’73 hot rods and kustoms mixing it up with front-engine dragsters\, altereds\, and doorslammers. \nOff the track you’ll find live entertainment\, traders with everything from rare parts to retro gear\, and the ever-popular power parking show area. With camping on site\, it’s a full weekend celebration of 30 years of nostalgia!
URL:https://discover-northamptonshire.co.uk/event/nsra-nostalgia-nationals/
LOCATION:Santa Pod\, Airfield Rd\, Podington\, Wellingborough\, NN29 7XA
CATEGORIES:Cars,Family friendly,Motorsport
ATTACH;FMTTYPE=image/jpeg:https://discover-northamptonshire.co.uk/wp-content/uploads/2025/12/nostalgianats26-rb-share.jpg
END:VEVENT
END:VCALENDAR