BEGIN:VCALENDAR
VERSION:2.0
PRODID:-//Discover Northamptonshire - ECPv6.15.18//NONSGML v1.0//EN
CALSCALE:GREGORIAN
METHOD:PUBLISH
X-ORIGINAL-URL:https://discover-northamptonshire.co.uk
X-WR-CALDESC:Events for Discover Northamptonshire
REFRESH-INTERVAL;VALUE=DURATION:PT1H
X-Robots-Tag:noindex
X-PUBLISHED-TTL:PT1H
BEGIN:VTIMEZONE
TZID:Europe/London
BEGIN:DAYLIGHT
TZOFFSETFROM:+0000
TZOFFSETTO:+0100
TZNAME:BST
DTSTART:20250330T010000
END:DAYLIGHT
BEGIN:STANDARD
TZOFFSETFROM:+0100
TZOFFSETTO:+0000
TZNAME:GMT
DTSTART:20251026T010000
END:STANDARD
BEGIN:DAYLIGHT
TZOFFSETFROM:+0000
TZOFFSETTO:+0100
TZNAME:BST
DTSTART:20260329T010000
END:DAYLIGHT
BEGIN:STANDARD
TZOFFSETFROM:+0100
TZOFFSETTO:+0000
TZNAME:GMT
DTSTART:20261025T010000
END:STANDARD
BEGIN:DAYLIGHT
TZOFFSETFROM:+0000
TZOFFSETTO:+0100
TZNAME:BST
DTSTART:20270328T010000
END:DAYLIGHT
BEGIN:STANDARD
TZOFFSETFROM:+0100
TZOFFSETTO:+0000
TZNAME:GMT
DTSTART:20271031T010000
END:STANDARD
END:VTIMEZONE
BEGIN:VEVENT
DTSTART;TZID=Europe/London:20260328T000000
DTEND;TZID=Europe/London:20260412T000000
DTSTAMP:20260424T175724
CREATED:20260304T145220Z
LAST-MODIFIED:20260320T121010Z
UID:10028712-1774656000-1775952000@discover-northamptonshire.co.uk
SUMMARY:Spring into Easter
DESCRIPTION:Spring into Easter at Wicksteed Park! \nJoin us from 28th March until 12th April from 10:30am until 5pm for a day full of adventure and family thrills as you explore all zones. \nThere’s something for everyone to enjoy at Wicksteed Park. From saying hello to our cute farm animals in Wicky’s Farmyard and taking in the picturesque views from Wicksteed Park Railway\, to spinning on the Sway Rider and making a splash on the Water Chute. \nPlus\, over Easter you can solve clues and spot new signs of life in our Springtime themed trail. \nOur wristbands start from just £22\, giving you unlimited access to an array of rides and attractions. There are also family tickets available starting from just £56 for a family of 3! \nChildren under 0.9m get to experience the joy of Easter at Wicksteed Park for FREE with an accompanying paying adult. \nEaster at Wicksteed Park is the perfect opportunity to create lasting memories with your loved ones whilst having fun! \nWhilst you are here why not grab a tasty bite to eat from one of our cafés or cool down by treating yourself to an ice cream from the Parlour. Be sure to purchase a keepsake or toy from Wicky Bears Gift Shop or treat a friend to one! \nDon’t miss out on family fun this Easter\, book your wristbands NOW! \nPlease note: Rides and attractions may be closed for maintenance or may not operate during inclement weather. Please check our website for the latest availability updates. \nWicksteed Park’s regular parking charges apply.
URL:https://discover-northamptonshire.co.uk/event/spring-into-easter/
LOCATION:Wicksteed Park\, Barton Road\,\, Kettering\, Northamptonshire\, NN15 6NJ\, United Kingdom
CATEGORIES:Easter,Half Term,Outdoors
ATTACH;FMTTYPE=image/jpeg:https://discover-northamptonshire.co.uk/wp-content/uploads/2026/03/Spring-into-Easter_TV-Screen.jpg
END:VEVENT
BEGIN:VEVENT
DTSTART;TZID=Europe/London:20260328T100000
DTEND;TZID=Europe/London:20260328T120000
DTSTAMP:20260424T175724
CREATED:20260318T111120Z
LAST-MODIFIED:20260323T093920Z
UID:10028728-1774692000-1774699200@discover-northamptonshire.co.uk
SUMMARY:Wellingborough Big Spring Clean
DESCRIPTION:Residents across Wellingborough are being encouraged to roll up their sleeves and take part in a community litter pick as part of the nationwide Great British Spring Clean. \nOrganised by the Wellingborough Town Council in partnership with Wellingborough Eco Group and the Wellie Wombles\, the event will take place on Saturday 28th March from 10:00am to 12:00pm in the town centre. \nVolunteers of all ages are invited to join the effort to help keep Wellingborough clean\, green\, and welcoming. Participants will meet at the recycling station on Market Street before heading out in groups to collect litter around the town centre. \nAll equipment will be provided\, making it easy for anyone to get involved—just turn up ready to make a difference.
URL:https://discover-northamptonshire.co.uk/event/wellingborough-big-spring-clean/
LOCATION:Market Street\, Wellingborough\, Market St\,\, Wellingborough\, Northamptonshire\, NN8
CATEGORIES:Outdoors
ATTACH;FMTTYPE=image/jpeg:https://discover-northamptonshire.co.uk/wp-content/uploads/2026/03/GB-Spring-Clean-2026-Poster.jpeg
END:VEVENT
BEGIN:VEVENT
DTSTART;TZID=Europe/London:20260328T100000
DTEND;TZID=Europe/London:20260328T160000
DTSTAMP:20260424T175724
CREATED:20260306T115421Z
LAST-MODIFIED:20260308T211557Z
UID:10028585-1774692000-1774713600@discover-northamptonshire.co.uk
SUMMARY:Castle Ashby Easter Egg Hunt 2026
DESCRIPTION:In spring\, something wonderful happens at Castle Ashby Gardens – the whole place comes alive with beautiful flowers in every colour. \nThe sight is so beautiful that the Easter Bunny visits every year to wander the paths and smell the blooms. This year\, he was so busy admiring the flowers that he accidentally dropped his eggs in six different places around the gardens. \nThe Easter Bunny needs your help to find them\, so he’s left you a special map and a trail of rhyming clues to follow. Keep your eyes peeled – the Easter Bunny will be hopping around the gardens to say hello\, too. \nAs a thank you for your help\, he wants everyone to grow their own flowers at home so each child will be able to take away their springtime gift to grow at home. If you would like your gift to include a chocolate Easter lollipop\, please select this option at check-out and collect it at the end of the trail (see important info).
URL:https://discover-northamptonshire.co.uk/event/castle-ashby-easter-egg-hunt-2026/
LOCATION:Castle Ashby Gardens\, Castle Ashby Gardens\, Castle Ashby\, NN7 1LF
CATEGORIES:Easter,Family friendly,Historic House,Outdoors
ATTACH;FMTTYPE=image/jpeg:https://discover-northamptonshire.co.uk/wp-content/uploads/2026/03/CASTLE-ASHBY-EASTER-EGG-EVENT-20206.jpg
END:VEVENT
BEGIN:VEVENT
DTSTART;TZID=Europe/London:20260328T103000
DTEND;TZID=Europe/London:20260328T113000
DTSTAMP:20260424T175724
CREATED:20260315T075052Z
LAST-MODIFIED:20260323T092004Z
UID:10028721-1774693800-1774697400@discover-northamptonshire.co.uk
SUMMARY:Daventry Heritage Walking Tour
DESCRIPTION:Daventry Heritage Trail | It’s Back! Come and learn about our town … \n🎟️ FREE event.\n🗓️ Saturday 28th March\, 10.30am.\n📍 Meet outside Sheaf Street Health Store.\n🔈 Tour will have headsets for attendees to wear to clearly hear the Guide.\n🧑‍🧑‍🧒‍🧒 Family Friendly\n✔️ Accessible\n🐶 Polite dogs welcome \nGet to know Daventry better by joining us for our historic tour. Lead by historian Susan you’ll get to know the story behind our town centre\, the buildings and people who have lived here. \nNew this year we will have headsets so you can clearly hear our guide through the hustle and bustle of the town. \nThe tour starts at 10:30 and takes about an hour\, there will be opportunity to ask questions at the end if there was any thing you were curious about. \n🚗 FREE PARKING – We recommend using the cinema car park\, Saint James car park or Newland’s car park which allow you to park for 3 hours.
URL:https://discover-northamptonshire.co.uk/event/daventry-heritage-walking-tour-2/
LOCATION:Daventry\, High St\,\, Daventry\, NN11 4BG\, United Kingdom
CATEGORIES:Family friendly,Free,Heritage Open Days,History,Outdoors,Tour
ATTACH;FMTTYPE=image/jpeg:https://discover-northamptonshire.co.uk/wp-content/uploads/2026/03/IMG_4680.jpeg
END:VEVENT
END:VCALENDAR