BEGIN:VCALENDAR
VERSION:2.0
PRODID:-//Discover Northamptonshire - ECPv6.15.18//NONSGML v1.0//EN
CALSCALE:GREGORIAN
METHOD:PUBLISH
X-WR-CALNAME:Discover Northamptonshire
X-ORIGINAL-URL:https://discover-northamptonshire.co.uk
X-WR-CALDESC:Events for Discover Northamptonshire
REFRESH-INTERVAL;VALUE=DURATION:PT1H
X-Robots-Tag:noindex
X-PUBLISHED-TTL:PT1H
BEGIN:VTIMEZONE
TZID:Europe/London
BEGIN:DAYLIGHT
TZOFFSETFROM:+0000
TZOFFSETTO:+0100
TZNAME:BST
DTSTART:20250330T010000
END:DAYLIGHT
BEGIN:STANDARD
TZOFFSETFROM:+0100
TZOFFSETTO:+0000
TZNAME:GMT
DTSTART:20251026T010000
END:STANDARD
BEGIN:DAYLIGHT
TZOFFSETFROM:+0000
TZOFFSETTO:+0100
TZNAME:BST
DTSTART:20260329T010000
END:DAYLIGHT
BEGIN:STANDARD
TZOFFSETFROM:+0100
TZOFFSETTO:+0000
TZNAME:GMT
DTSTART:20261025T010000
END:STANDARD
BEGIN:DAYLIGHT
TZOFFSETFROM:+0000
TZOFFSETTO:+0100
TZNAME:BST
DTSTART:20270328T010000
END:DAYLIGHT
BEGIN:STANDARD
TZOFFSETFROM:+0100
TZOFFSETTO:+0000
TZNAME:GMT
DTSTART:20271031T010000
END:STANDARD
END:VTIMEZONE
BEGIN:VEVENT
DTSTART;TZID=Europe/London:20260519T110000
DTEND;TZID=Europe/London:20260519T110000
DTSTAMP:20260424T174234
CREATED:20230929T143231Z
LAST-MODIFIED:20230929T143231Z
UID:10004524-1779188400-1779188400@discover-northamptonshire.co.uk
SUMMARY:Healthy Walks - Kings Cliffe
DESCRIPTION:Would you like to improve your general health\, make new friends and enjoy our beautiful North Northamptonshire district in a safe\, supportive environment? \nThen join the Healthy Walks group – it’s FREE! All their walks are led by trained walk leaders. \nNo need to book\, just turn up! \nFor more information\, contact wesley.neville@freedom-leisure.co.uk or ring on 07500861729. \nTheir Kings Cliffe walks are weekly – every Tuesday at 11am\, with their meeting point at the Working Mens Club. \n 
URL:https://discover-northamptonshire.co.uk/event/healthy-walks-kings-cliffe/2026-05-19/
LOCATION:Kings Cliffe Club\, 65 Wood Rd\,\, King's Cliffe\, Northamptonshire\, PE8 6XF
CATEGORIES:Outdoors,Walking
ATTACH;FMTTYPE=image/jpeg:https://discover-northamptonshire.co.uk/wp-content/uploads/2023/09/adult-1867702_1280.jpg
END:VEVENT
BEGIN:VEVENT
DTSTART;TZID=Europe/London:20260519T151500
DTEND;TZID=Europe/London:20260519T171500
DTSTAMP:20260424T174234
CREATED:20251215T164433Z
LAST-MODIFIED:20251215T164433Z
UID:10024249-1779203700-1779210900@discover-northamptonshire.co.uk
SUMMARY:Spring Garden Tour and Cream Tea with the Head Gardener
DESCRIPTION:Join an exclusive tour of Canons Ashby’s beautiful garden this spring led by their Head Gardener. Learn about the history of the gardens\, the plants around you\, and the way the team cares for them. Then enjoy a cream tea together in the tea-room. \npre-booking essential
URL:https://discover-northamptonshire.co.uk/event/spring-garden-tour-and-cream-tea-with-the-head-gardener/
LOCATION:Canons Ashby\, Canons Ashby House\, Daventry\, Northamptonshire\, NN11 3SD\, United Kingdom
CATEGORIES:Afternoon Tea,Flowers,Food and Drink,Garden,Gardening,Mindfulness,Outdoors,Spring,Summer
ATTACH;FMTTYPE=image/jpeg:https://discover-northamptonshire.co.uk/wp-content/uploads/2023/02/Rosehips-in-front-of-house-Helena-Avery-Clarke-2-scaled.jpg
END:VEVENT
END:VCALENDAR