BEGIN:VCALENDAR
VERSION:2.0
PRODID:-//Discover Northamptonshire - ECPv6.15.18//NONSGML v1.0//EN
CALSCALE:GREGORIAN
METHOD:PUBLISH
X-ORIGINAL-URL:https://discover-northamptonshire.co.uk
X-WR-CALDESC:Events for Discover Northamptonshire
REFRESH-INTERVAL;VALUE=DURATION:PT1H
X-Robots-Tag:noindex
X-PUBLISHED-TTL:PT1H
BEGIN:VTIMEZONE
TZID:Europe/London
BEGIN:DAYLIGHT
TZOFFSETFROM:+0000
TZOFFSETTO:+0100
TZNAME:BST
DTSTART:20250330T010000
END:DAYLIGHT
BEGIN:STANDARD
TZOFFSETFROM:+0100
TZOFFSETTO:+0000
TZNAME:GMT
DTSTART:20251026T010000
END:STANDARD
BEGIN:DAYLIGHT
TZOFFSETFROM:+0000
TZOFFSETTO:+0100
TZNAME:BST
DTSTART:20260329T010000
END:DAYLIGHT
BEGIN:STANDARD
TZOFFSETFROM:+0100
TZOFFSETTO:+0000
TZNAME:GMT
DTSTART:20261025T010000
END:STANDARD
BEGIN:DAYLIGHT
TZOFFSETFROM:+0000
TZOFFSETTO:+0100
TZNAME:BST
DTSTART:20270328T010000
END:DAYLIGHT
BEGIN:STANDARD
TZOFFSETFROM:+0100
TZOFFSETTO:+0000
TZNAME:GMT
DTSTART:20271031T010000
END:STANDARD
END:VTIMEZONE
BEGIN:VEVENT
DTSTART;VALUE=DATE:20260523
DTEND;VALUE=DATE:20260526
DTSTAMP:20260424T174443
CREATED:20260223T144328Z
LAST-MODIFIED:20260408T133556Z
UID:10028338-1779530400-1779728400@discover-northamptonshire.co.uk
SUMMARY:Crick Boat Show
DESCRIPTION:Now Britain’s biggest inland waterways event\, Crick Boat Show sponsored by Haven Knox-Johnston\, will be held across the late May Bank Holiday Weekend\, 23-25 May 2026\, with an exclusive Trade & Preview Day on Friday 22 May. \nOrganised by Waterways World in association with the Canal & River Trust and Crick Waterside & Marina\, the event is expected to attract 26\,000 visitors. \nAs well as being the canal world’s biggest marketplace\, showcasing the inland waterways industry with over 200 exhibitors\, Crick Boat Show offers a fantastic day out with more than 30 new boats to view as well as used boats\, free boat trips\, free advice seminars on boat ownership\, technical masterclasses\, a live music festival sponsored by Vetus\, a real-ale festival sponsored by LeeSan\, and a large variety of food and drink stalls.
URL:https://discover-northamptonshire.co.uk/event/crick-boat-show/
LOCATION:Crick\, Crick Village\, Northamptonshire\, NN6
CATEGORIES:Fair,Family friendly,Festival,Outdoors,Summer
ATTACH;FMTTYPE=image/jpeg:https://discover-northamptonshire.co.uk/wp-content/uploads/2026/02/Pet-friendly-Crick-Boat-Show-2025-med-res-scaled.jpg
END:VEVENT
BEGIN:VEVENT
DTSTART;TZID=Europe/London:20260525T110000
DTEND;TZID=Europe/London:20260525T150000
DTSTAMP:20260424T174443
CREATED:20260127T111249Z
LAST-MODIFIED:20260127T112345Z
UID:10025499-1779706800-1779721200@discover-northamptonshire.co.uk
SUMMARY:Woo Fest 2.0 - Street Food Festival
DESCRIPTION:Woo Fest 2.0 is back! \nAfter welcoming over 600 attendees last year\, our much loved street food festival returns to the stunning setting of Pitsford Quarry for another day of great food\, community and fun. \nEnjoy an amazing line-up of local stalls and street food vendors including; \nReturning: \nJojo’s Pizza\nWaffle Wands\nThe Courtyard Creperie\nT’s Coffee \nNew: \nBurger Boulevard\nCbrownies\nUnanounced (Coming Soon)\nUnanounced (Coming Soon) \nWe are also hoping to be joined by the fantastic JIG Dance Academy\, bringing live performance and local talent to the day. \nWith plenty of seating\, toilets and covered areas\, Woo Fest 2.0 is designed to be relaxed and comfortable for all. The event is family friendly\, welcoming everyone to come along\, eat well and enjoy the atmosphere – there will be something for everyone. \nLast year\, thanks to the incredible support of our visitors\, we raised over £2\,000 for The Lewis Foundation. Woo Fest 2.0 remains a free event\, but voluntary donations on the day are warmly welcomed to help us continue supporting this amazing local charity.
URL:https://discover-northamptonshire.co.uk/event/woo-fest-2-0-street-food-festival/
LOCATION:Pitsford Quarry\, A508 Harborough Rd\,\, Pitsford\, Northamptonshire\, NN6 9NL
CATEGORIES:Family friendly,Food and Drink,Free,Half Term,Outdoors,SEN Friendly
ATTACH;FMTTYPE=image/jpeg:https://discover-northamptonshire.co.uk/wp-content/uploads/2026/01/Screenshot_20260126_175956_Gallery.jpg
END:VEVENT
END:VCALENDAR