BEGIN:VCALENDAR
VERSION:2.0
PRODID:-//Discover Northamptonshire - ECPv6.15.18//NONSGML v1.0//EN
CALSCALE:GREGORIAN
METHOD:PUBLISH
X-ORIGINAL-URL:https://discover-northamptonshire.co.uk
X-WR-CALDESC:Events for Discover Northamptonshire
REFRESH-INTERVAL;VALUE=DURATION:PT1H
X-Robots-Tag:noindex
X-PUBLISHED-TTL:PT1H
BEGIN:VTIMEZONE
TZID:Europe/London
BEGIN:DAYLIGHT
TZOFFSETFROM:+0000
TZOFFSETTO:+0100
TZNAME:BST
DTSTART:20250330T010000
END:DAYLIGHT
BEGIN:STANDARD
TZOFFSETFROM:+0100
TZOFFSETTO:+0000
TZNAME:GMT
DTSTART:20251026T010000
END:STANDARD
BEGIN:DAYLIGHT
TZOFFSETFROM:+0000
TZOFFSETTO:+0100
TZNAME:BST
DTSTART:20260329T010000
END:DAYLIGHT
BEGIN:STANDARD
TZOFFSETFROM:+0100
TZOFFSETTO:+0000
TZNAME:GMT
DTSTART:20261025T010000
END:STANDARD
BEGIN:DAYLIGHT
TZOFFSETFROM:+0000
TZOFFSETTO:+0100
TZNAME:BST
DTSTART:20270328T010000
END:DAYLIGHT
BEGIN:STANDARD
TZOFFSETFROM:+0100
TZOFFSETTO:+0000
TZNAME:GMT
DTSTART:20271031T010000
END:STANDARD
END:VTIMEZONE
BEGIN:VEVENT
DTSTART;VALUE=DATE:20260531
DTEND;VALUE=DATE:20260601
DTSTAMP:20260424T174406
CREATED:20251204T153931Z
LAST-MODIFIED:20251209T123350Z
UID:10024173-1780185600-1780271999@discover-northamptonshire.co.uk
SUMMARY:The Vauxhall Show
DESCRIPTION:Vauxhalls take over Santa Pod for a high-octane celebration of Britain’s beloved badge! From classic Vivas to modern VXRs\, The Vauxhall Show welcomes all things Griffin to the drag strip and showground alike. \nWhether you’re sporting a finely-tuned Astra\, a custom-built Corsa\, a rare Opel import\, or even a Holden with a Vauxhall twist — this is the event for you. Expect a full day of Vauxhall-only Run What Ya Brung (RWYB) action\, Show & Shine competition\, Car Club displays and plenty of chances to meet like-minded enthusiasts. \nFamed for their reliability\, affordability\, and surprising mod-ability\, Vauxhalls have earned their place in the hearts (and garages) of everyone from first-time drivers to seasoned petrolheads. The drag strip is calling — drop the clutch and test your machine’s mettle in a safe\, legal\, and adrenaline-filled environment!
URL:https://discover-northamptonshire.co.uk/event/the-vauxhall-show/
LOCATION:Santa Pod\, Airfield Rd\, Podington\, Wellingborough\, NN29 7XA
CATEGORIES:Cars,Family friendly,Motorsport,Outdoors
ATTACH;FMTTYPE=image/jpeg:https://discover-northamptonshire.co.uk/wp-content/uploads/2025/12/Vauxhall26-RB-share.jpg
END:VEVENT
END:VCALENDAR