BEGIN:VCALENDAR
VERSION:2.0
PRODID:-//Discover Northamptonshire - ECPv6.15.18//NONSGML v1.0//EN
CALSCALE:GREGORIAN
METHOD:PUBLISH
X-ORIGINAL-URL:https://discover-northamptonshire.co.uk
X-WR-CALDESC:Events for Discover Northamptonshire
REFRESH-INTERVAL;VALUE=DURATION:PT1H
X-Robots-Tag:noindex
X-PUBLISHED-TTL:PT1H
BEGIN:VTIMEZONE
TZID:Europe/London
BEGIN:DAYLIGHT
TZOFFSETFROM:+0000
TZOFFSETTO:+0100
TZNAME:BST
DTSTART:20250330T010000
END:DAYLIGHT
BEGIN:STANDARD
TZOFFSETFROM:+0100
TZOFFSETTO:+0000
TZNAME:GMT
DTSTART:20251026T010000
END:STANDARD
BEGIN:DAYLIGHT
TZOFFSETFROM:+0000
TZOFFSETTO:+0100
TZNAME:BST
DTSTART:20260329T010000
END:DAYLIGHT
BEGIN:STANDARD
TZOFFSETFROM:+0100
TZOFFSETTO:+0000
TZNAME:GMT
DTSTART:20261025T010000
END:STANDARD
BEGIN:DAYLIGHT
TZOFFSETFROM:+0000
TZOFFSETTO:+0100
TZNAME:BST
DTSTART:20270328T010000
END:DAYLIGHT
BEGIN:STANDARD
TZOFFSETFROM:+0100
TZOFFSETTO:+0000
TZNAME:GMT
DTSTART:20271031T010000
END:STANDARD
END:VTIMEZONE
BEGIN:VEVENT
DTSTART;TZID=Europe/London:20260605T110000
DTEND;TZID=Europe/London:20260605T110000
DTSTAMP:20260425T002917
CREATED:20230929T150653Z
LAST-MODIFIED:20230929T150653Z
UID:10005571-1780657200-1780657200@discover-northamptonshire.co.uk
SUMMARY:Healthy Walks - Nassington
DESCRIPTION:Would you like to improve your general health\, make new friends and enjoy our beautiful North Northamptonshire district in a safe\, supportive environment? \nThen join the Healthy Walks group – it’s FREE! All their walks are led by trained walk leaders. \nNo need to book\, just turn up! \nFor more information\, contact wesley.neville@freedom-leisure.co.uk or ring on 07500861729. \nNassington Healthy Walks take place weekly\, every Friday at 11am. Meeting point is the Black Horse Pub.
URL:https://discover-northamptonshire.co.uk/event/healthy-walks-nassington/2026-06-05/
LOCATION:Black Horse Pub\, 1674 Fotheringhay Rd\,\, Nassington\, Northamptonshire\, PE8 6QU
CATEGORIES:Outdoors,Walking
ATTACH;FMTTYPE=image/jpeg:https://discover-northamptonshire.co.uk/wp-content/uploads/2023/09/girl-3288623_1280.jpg
END:VEVENT
BEGIN:VEVENT
DTSTART;TZID=Europe/London:20260605T183000
DTEND;TZID=Europe/London:20260605T213000
DTSTAMP:20260425T002917
CREATED:20260227T141518Z
LAST-MODIFIED:20260227T141518Z
UID:10028355-1780684200-1780695000@discover-northamptonshire.co.uk
SUMMARY:Twilight Tranquility
DESCRIPTION:Enjoy a rare opportunity to soak up the atmosphere of the gardens in the golden hour with a drink in hand\, followed by a grazing board supper at Lamport Hall! \nThe gardens come alive with a magical golden glow\, the birds are singing\, the flowers give off a heady scent and then a feeling of calm descends over the Hall and gardens. Whether you’re looking to unwind after a long week at work\, want a date night with a difference or you simply enjoy nature and the English country garden\, this is an event not to be missed. \nOur grazing boards will be supplied by Sauls of Spratton from local\, seasonal produce and can be adapted for all dietary requirements with prior notice. \n£35pp to include entry to the gardens\, a welcome drink and a grazing board supper.
URL:https://discover-northamptonshire.co.uk/event/twilight-tranquility/
LOCATION:Lamport Hall\, Lamport\, Northampton\, Northamptonshire\, NN6 9HD\, United Kingdom
CATEGORIES:Food and Drink,Historic House,Mindfulness,Nature,Outdoors
ATTACH;FMTTYPE=image/jpeg:https://discover-northamptonshire.co.uk/wp-content/uploads/2023/06/Lamport-Hall-scp_01_06_2020-img-084.jpg
END:VEVENT
END:VCALENDAR