BEGIN:VCALENDAR
VERSION:2.0
PRODID:-//Discover Northamptonshire - ECPv6.15.18//NONSGML v1.0//EN
CALSCALE:GREGORIAN
METHOD:PUBLISH
X-ORIGINAL-URL:https://discover-northamptonshire.co.uk
X-WR-CALDESC:Events for Discover Northamptonshire
REFRESH-INTERVAL;VALUE=DURATION:PT1H
X-Robots-Tag:noindex
X-PUBLISHED-TTL:PT1H
BEGIN:VTIMEZONE
TZID:Europe/London
BEGIN:DAYLIGHT
TZOFFSETFROM:+0000
TZOFFSETTO:+0100
TZNAME:BST
DTSTART:20250330T010000
END:DAYLIGHT
BEGIN:STANDARD
TZOFFSETFROM:+0100
TZOFFSETTO:+0000
TZNAME:GMT
DTSTART:20251026T010000
END:STANDARD
BEGIN:DAYLIGHT
TZOFFSETFROM:+0000
TZOFFSETTO:+0100
TZNAME:BST
DTSTART:20260329T010000
END:DAYLIGHT
BEGIN:STANDARD
TZOFFSETFROM:+0100
TZOFFSETTO:+0000
TZNAME:GMT
DTSTART:20261025T010000
END:STANDARD
BEGIN:DAYLIGHT
TZOFFSETFROM:+0000
TZOFFSETTO:+0100
TZNAME:BST
DTSTART:20270328T010000
END:DAYLIGHT
BEGIN:STANDARD
TZOFFSETFROM:+0100
TZOFFSETTO:+0000
TZNAME:GMT
DTSTART:20271031T010000
END:STANDARD
END:VTIMEZONE
BEGIN:VEVENT
DTSTART;VALUE=DATE:20260612
DTEND;VALUE=DATE:20260613
DTSTAMP:20260425T114127
CREATED:20260106T115956Z
LAST-MODIFIED:20260106T121142Z
UID:10024821-1781222400-1781308799@discover-northamptonshire.co.uk
SUMMARY:Sheaf Street Health Store Foraging Event
DESCRIPTION:Have you ever foraged for delicious wild foods before? Would you like to learn what is in season that can be foraged safely with a little care\, to supplement your diet? \nCome along to Sheaf Street Heath Store this June to be guided around the local area by Lizzy who will take you on a wander to seek wild edibles that are full of surprising spring flavours! \nWe will be looking for wild fruits\, herbs\, mushrooms and plants that are all around us and teaching you key identification features/preferred habitats to give a good introduction to foraging for your own wild food journey going forwards. \nThere will be a chance to sample afterwards some wild food makes and bakes to demonstrate how easy it can be to incorporate your finds into everyday meals and cooking. \nWe will be covering good foraging practice\, preservation techniques and what species to look out…
URL:https://discover-northamptonshire.co.uk/event/sheaf-street-health-store-foraging-event-2/
LOCATION:Daventry\, High St\,\, Daventry\, NN11 4BG\, United Kingdom
CATEGORIES:Food and Drink,Outdoors,SEN Friendly,Wellbeing,Workshops
ATTACH;FMTTYPE=image/jpeg:https://discover-northamptonshire.co.uk/wp-content/uploads/2026/01/inbound2850336724098669265-scaled.jpg
END:VEVENT
BEGIN:VEVENT
DTSTART;TZID=Europe/London:20260612T110000
DTEND;TZID=Europe/London:20260612T110000
DTSTAMP:20260425T114127
CREATED:20230929T150653Z
LAST-MODIFIED:20230929T150653Z
UID:10005572-1781262000-1781262000@discover-northamptonshire.co.uk
SUMMARY:Healthy Walks - Nassington
DESCRIPTION:Would you like to improve your general health\, make new friends and enjoy our beautiful North Northamptonshire district in a safe\, supportive environment? \nThen join the Healthy Walks group – it’s FREE! All their walks are led by trained walk leaders. \nNo need to book\, just turn up! \nFor more information\, contact wesley.neville@freedom-leisure.co.uk or ring on 07500861729. \nNassington Healthy Walks take place weekly\, every Friday at 11am. Meeting point is the Black Horse Pub.
URL:https://discover-northamptonshire.co.uk/event/healthy-walks-nassington/2026-06-12/
LOCATION:Black Horse Pub\, 1674 Fotheringhay Rd\,\, Nassington\, Northamptonshire\, PE8 6QU
CATEGORIES:Outdoors,Walking
ATTACH;FMTTYPE=image/jpeg:https://discover-northamptonshire.co.uk/wp-content/uploads/2023/09/girl-3288623_1280.jpg
END:VEVENT
BEGIN:VEVENT
DTSTART;TZID=Europe/London:20260612T190000
DTEND;TZID=Europe/London:20260612T210000
DTSTAMP:20260425T114127
CREATED:20260316T064922Z
LAST-MODIFIED:20260323T092638Z
UID:10028723-1781290800-1781298000@discover-northamptonshire.co.uk
SUMMARY:Mikron Theatre Company - Top of the World
DESCRIPTION:Mikron Theatre Company return to Stoke Bruerne to perform ‘Top of the World’ – Tales from a Mobile Library\, in the open air\, on the Museum Green. No tickets – “pay what you think” at a collection at the end of the show.\nParking £3 for 4 hours. Bring a chair\, rug\, and a picnic if you wish.\n(In the case of inclement weather\, the show will move indoors\, but space will be limited)
URL:https://discover-northamptonshire.co.uk/event/mikron-theatre-company-top-of-the-world/
LOCATION:The Canal Museum\, The Canal Museum\,\, Stoke Bruerne\,\, Northamptonshire\, NN12 7SE\, United Kingdom
CATEGORIES:Family friendly,Outdoors,Show,Summer,Theatre,Tour
ATTACH;FMTTYPE=image/jpeg:https://discover-northamptonshire.co.uk/wp-content/uploads/2026/03/TOTW-image-for-web-e1771418059282.jpg
END:VEVENT
END:VCALENDAR