BEGIN:VCALENDAR
VERSION:2.0
PRODID:-//Discover Northamptonshire - ECPv6.15.18//NONSGML v1.0//EN
CALSCALE:GREGORIAN
METHOD:PUBLISH
X-WR-CALNAME:Discover Northamptonshire
X-ORIGINAL-URL:https://discover-northamptonshire.co.uk
X-WR-CALDESC:Events for Discover Northamptonshire
REFRESH-INTERVAL;VALUE=DURATION:PT1H
X-Robots-Tag:noindex
X-PUBLISHED-TTL:PT1H
BEGIN:VTIMEZONE
TZID:Europe/London
BEGIN:DAYLIGHT
TZOFFSETFROM:+0000
TZOFFSETTO:+0100
TZNAME:BST
DTSTART:20250330T010000
END:DAYLIGHT
BEGIN:STANDARD
TZOFFSETFROM:+0100
TZOFFSETTO:+0000
TZNAME:GMT
DTSTART:20251026T010000
END:STANDARD
BEGIN:DAYLIGHT
TZOFFSETFROM:+0000
TZOFFSETTO:+0100
TZNAME:BST
DTSTART:20260329T010000
END:DAYLIGHT
BEGIN:STANDARD
TZOFFSETFROM:+0100
TZOFFSETTO:+0000
TZNAME:GMT
DTSTART:20261025T010000
END:STANDARD
BEGIN:DAYLIGHT
TZOFFSETFROM:+0000
TZOFFSETTO:+0100
TZNAME:BST
DTSTART:20270328T010000
END:DAYLIGHT
BEGIN:STANDARD
TZOFFSETFROM:+0100
TZOFFSETTO:+0000
TZNAME:GMT
DTSTART:20271031T010000
END:STANDARD
END:VTIMEZONE
BEGIN:VEVENT
DTSTART;TZID=Europe/London:20260613T100000
DTEND;TZID=Europe/London:20260613T160000
DTSTAMP:20260425T131558
CREATED:20260129T161714Z
LAST-MODIFIED:20260129T161714Z
UID:10025536-1781344800-1781366400@discover-northamptonshire.co.uk
SUMMARY:East Asia Market
DESCRIPTION:Join Castle Ashby Deli to explore the 1 day East Asian Market and discover a curated selection of authentic products and unique finds that will transport you to the bustling streets of East Asia; The aromas\, the artistry\, the sense of togetherness. \nFor those from east Asia a place that feels like home and for all it is a warm invitation to experience the culture and flavours all in one place.
URL:https://discover-northamptonshire.co.uk/event/east-asia-market/
LOCATION:Castle Ashby Rural Shopping Yard\, Castle Ashby Shopping Yard\, Castle Ashby\, NN7 1LF
CATEGORIES:Community,Family friendly,Food and Drink,Free,Market,Outdoors,Shopping
ATTACH;FMTTYPE=image/png:https://discover-northamptonshire.co.uk/wp-content/uploads/2026/01/East-Asia-Market.png
END:VEVENT
BEGIN:VEVENT
DTSTART;TZID=Europe/London:20260613T120000
DTEND;TZID=Europe/London:20260613T160000
DTSTAMP:20260425T131558
CREATED:20260323T113226Z
LAST-MODIFIED:20260324T154843Z
UID:10028746-1781352000-1781366400@discover-northamptonshire.co.uk
SUMMARY:Raunds Skate Jam
DESCRIPTION:🎉 Happy 1st Birthday to the Raunds Skate Park & Pump Track! 🛹🚲 \nWhether you were there on day 1 or you’ve just started learning\, come and celebrate with us at the Raunds Skate Jam! \nEvent Details: \n🏆 Skateboard\, BMX & Scooter Competitions: Show us what you’ve learned in year one! \n🎶 Music & Vibes: High energy all afternoon. \n🍦 Refreshments: Grab a treat to celebrate. \n📅 When: Saturday 13th June | 12 PM – 4 PM \n📍 Where: Amos Lawrence Park\, Stanwick Road\, Raunds \nEveryone Welcome!
URL:https://discover-northamptonshire.co.uk/event/raunds-skate-jam-2/
LOCATION:Amos Lawrence Park\, Raunds\, NN9 6BZ\, United Kingdom
CATEGORIES:Family friendly,Free,Halloween,Outdoors,Sports
ATTACH;FMTTYPE=image/png:https://discover-northamptonshire.co.uk/wp-content/uploads/2026/03/Poster.png
END:VEVENT
BEGIN:VEVENT
DTSTART;TZID=Europe/London:20260613T120000
DTEND;TZID=Europe/London:20260613T180000
DTSTAMP:20260425T131558
CREATED:20260114T160005Z
LAST-MODIFIED:20260114T171634Z
UID:10025395-1781352000-1781373600@discover-northamptonshire.co.uk
SUMMARY:Corby Pride 2026
DESCRIPTION:Corby Pride is making a triumphant return again this year and all are welcome.\nCoronation Park\, Corby\, NN17 1SY. 12pm – 6pm \nThis year’s celebration promises to be a powerful show of visibility\, community spirit and hope\, bringing together the heart of Northamptonshire. \nTimetable \n\n12pm – The Main Parade: Join the sea of colour as the parade starts from The Cube through the town\, ending at the festival site in Coronation Park.\n12:30pm – 6pm – Main stage Live Entertainment: A dedicated main stage featuring artists\, bands\, sensational drag artists\, and diverse performers including Zoe Roderick\, Tara Simms\, Sass Brown aka Tina Turner tribute\, Marie La Rae and Flash – A tribute to Queen\n12:30 – 6pm – Community Village: Browse stalls offering everything from artisan crafts to delicious street food and drink. Also join us in the dedicated safe zone for meditation and yoga.\n1pm – 5pm – Community Stage: Local acts and groups showcasing their talents\n1pm – 6pm – Family Zone: Safe\, inclusive spaces with workshops\, activities\, and face painting for the little ones.\n\nCome and join us for a day of pure joy and unity. Family friendly. Free event
URL:https://discover-northamptonshire.co.uk/event/corby-pride-2026/
LOCATION:Coronation Park\, Cottingham Rd\,\, Corby\, Northamptonshire\, NN17 1SY
CATEGORIES:Family friendly,Festival,Food and Drink,Free,Market,Music,Outdoors,SEN Friendly,Summer,Wellbeing,Workshops
ATTACH;FMTTYPE=image/png:https://discover-northamptonshire.co.uk/wp-content/uploads/2026/01/Corby-pride-4.png
END:VEVENT
END:VCALENDAR