BEGIN:VCALENDAR
VERSION:2.0
PRODID:-//Discover Northamptonshire - ECPv6.15.18//NONSGML v1.0//EN
CALSCALE:GREGORIAN
METHOD:PUBLISH
X-WR-CALNAME:Discover Northamptonshire
X-ORIGINAL-URL:https://discover-northamptonshire.co.uk
X-WR-CALDESC:Events for Discover Northamptonshire
REFRESH-INTERVAL;VALUE=DURATION:PT1H
X-Robots-Tag:noindex
X-PUBLISHED-TTL:PT1H
BEGIN:VTIMEZONE
TZID:Europe/London
BEGIN:DAYLIGHT
TZOFFSETFROM:+0000
TZOFFSETTO:+0100
TZNAME:BST
DTSTART:20300331T010000
END:DAYLIGHT
BEGIN:STANDARD
TZOFFSETFROM:+0100
TZOFFSETTO:+0000
TZNAME:GMT
DTSTART:20301027T010000
END:STANDARD
BEGIN:DAYLIGHT
TZOFFSETFROM:+0000
TZOFFSETTO:+0100
TZNAME:BST
DTSTART:20310330T010000
END:DAYLIGHT
BEGIN:STANDARD
TZOFFSETFROM:+0100
TZOFFSETTO:+0000
TZNAME:GMT
DTSTART:20311026T010000
END:STANDARD
BEGIN:DAYLIGHT
TZOFFSETFROM:+0000
TZOFFSETTO:+0100
TZNAME:BST
DTSTART:20320328T010000
END:DAYLIGHT
BEGIN:STANDARD
TZOFFSETFROM:+0100
TZOFFSETTO:+0000
TZNAME:GMT
DTSTART:20321031T010000
END:STANDARD
END:VTIMEZONE
BEGIN:VEVENT
DTSTART;TZID=Europe/London:20310321T110000
DTEND;TZID=Europe/London:20310321T110000
DTSTAMP:20260425T220928
CREATED:20230929T150653Z
LAST-MODIFIED:20230929T150653Z
UID:10028788-1931857200-1931857200@discover-northamptonshire.co.uk
SUMMARY:Healthy Walks - Nassington
DESCRIPTION:Would you like to improve your general health\, make new friends and enjoy our beautiful North Northamptonshire district in a safe\, supportive environment? \nThen join the Healthy Walks group – it’s FREE! All their walks are led by trained walk leaders. \nNo need to book\, just turn up! \nFor more information\, contact wesley.neville@freedom-leisure.co.uk or ring on 07500861729. \nNassington Healthy Walks take place weekly\, every Friday at 11am. Meeting point is the Black Horse Pub.
URL:https://discover-northamptonshire.co.uk/event/healthy-walks-nassington/2031-03-21/
LOCATION:Black Horse Pub\, 1674 Fotheringhay Rd\,\, Nassington\, Northamptonshire\, PE8 6QU
CATEGORIES:Outdoors,Walking
ATTACH;FMTTYPE=image/jpeg:https://discover-northamptonshire.co.uk/wp-content/uploads/2023/09/girl-3288623_1280.jpg
END:VEVENT
BEGIN:VEVENT
DTSTART;TZID=Europe/London:20310325T110000
DTEND;TZID=Europe/London:20310325T110000
DTSTAMP:20260425T220928
CREATED:20230929T143231Z
LAST-MODIFIED:20230929T143231Z
UID:10028863-1932202800-1932202800@discover-northamptonshire.co.uk
SUMMARY:Healthy Walks - Kings Cliffe
DESCRIPTION:Would you like to improve your general health\, make new friends and enjoy our beautiful North Northamptonshire district in a safe\, supportive environment? \nThen join the Healthy Walks group – it’s FREE! All their walks are led by trained walk leaders. \nNo need to book\, just turn up! \nFor more information\, contact wesley.neville@freedom-leisure.co.uk or ring on 07500861729. \nTheir Kings Cliffe walks are weekly – every Tuesday at 11am\, with their meeting point at the Working Mens Club. \n 
URL:https://discover-northamptonshire.co.uk/event/healthy-walks-kings-cliffe/2031-03-25/
LOCATION:Kings Cliffe Club\, 65 Wood Rd\,\, King's Cliffe\, Northamptonshire\, PE8 6XF
CATEGORIES:Outdoors,Walking
ATTACH;FMTTYPE=image/jpeg:https://discover-northamptonshire.co.uk/wp-content/uploads/2023/09/adult-1867702_1280.jpg
END:VEVENT
BEGIN:VEVENT
DTSTART;TZID=Europe/London:20310326T133000
DTEND;TZID=Europe/London:20310326T133000
DTSTAMP:20260425T220928
CREATED:20230929T145539Z
LAST-MODIFIED:20230929T145539Z
UID:10028882-1932298200-1932298200@discover-northamptonshire.co.uk
SUMMARY:Healthy Walks - Barnwell
DESCRIPTION:Would you like to improve your general health\, make new friends and enjoy our beautiful North Northamptonshire district in a safe\, supportive environment? \nThen join the Healthy Walks group – it’s FREE! All their walks are led by trained walk leaders. \nNo need to book\, just turn up! \nFor more information\, contact wesley.neville@freedom-leisure.co.uk or ring on 07500861729. \nThe Barnwell Healthy Walks are weekly\, every Wednesday at 1.30pm. Meeting point is Barnwell Country Park.
URL:https://discover-northamptonshire.co.uk/event/healthy-walks-barnwell/2031-03-26/
LOCATION:Barnwell Country Park\, Barnwell Road\, Oundle\, PE8 5PB
CATEGORIES:Country Park,Outdoors,Walking
ATTACH;FMTTYPE=image/jpeg:https://discover-northamptonshire.co.uk/wp-content/uploads/2023/01/barnwell-1.jpg
END:VEVENT
BEGIN:VEVENT
DTSTART;TZID=Europe/London:20310328T110000
DTEND;TZID=Europe/London:20310328T110000
DTSTAMP:20260425T220928
CREATED:20230929T150653Z
LAST-MODIFIED:20230929T150653Z
UID:10028898-1932462000-1932462000@discover-northamptonshire.co.uk
SUMMARY:Healthy Walks - Nassington
DESCRIPTION:Would you like to improve your general health\, make new friends and enjoy our beautiful North Northamptonshire district in a safe\, supportive environment? \nThen join the Healthy Walks group – it’s FREE! All their walks are led by trained walk leaders. \nNo need to book\, just turn up! \nFor more information\, contact wesley.neville@freedom-leisure.co.uk or ring on 07500861729. \nNassington Healthy Walks take place weekly\, every Friday at 11am. Meeting point is the Black Horse Pub.
URL:https://discover-northamptonshire.co.uk/event/healthy-walks-nassington/2031-03-28/
LOCATION:Black Horse Pub\, 1674 Fotheringhay Rd\,\, Nassington\, Northamptonshire\, PE8 6QU
CATEGORIES:Outdoors,Walking
ATTACH;FMTTYPE=image/jpeg:https://discover-northamptonshire.co.uk/wp-content/uploads/2023/09/girl-3288623_1280.jpg
END:VEVENT
BEGIN:VEVENT
DTSTART;TZID=Europe/London:20310401T110000
DTEND;TZID=Europe/London:20310401T110000
DTSTAMP:20260425T220928
CREATED:20230929T143231Z
LAST-MODIFIED:20230929T143231Z
UID:10028864-1932807600-1932807600@discover-northamptonshire.co.uk
SUMMARY:Healthy Walks - Kings Cliffe
DESCRIPTION:Would you like to improve your general health\, make new friends and enjoy our beautiful North Northamptonshire district in a safe\, supportive environment? \nThen join the Healthy Walks group – it’s FREE! All their walks are led by trained walk leaders. \nNo need to book\, just turn up! \nFor more information\, contact wesley.neville@freedom-leisure.co.uk or ring on 07500861729. \nTheir Kings Cliffe walks are weekly – every Tuesday at 11am\, with their meeting point at the Working Mens Club. \n 
URL:https://discover-northamptonshire.co.uk/event/healthy-walks-kings-cliffe/2031-04-01/
LOCATION:Kings Cliffe Club\, 65 Wood Rd\,\, King's Cliffe\, Northamptonshire\, PE8 6XF
CATEGORIES:Outdoors,Walking
ATTACH;FMTTYPE=image/jpeg:https://discover-northamptonshire.co.uk/wp-content/uploads/2023/09/adult-1867702_1280.jpg
END:VEVENT
BEGIN:VEVENT
DTSTART;TZID=Europe/London:20310402T133000
DTEND;TZID=Europe/London:20310402T133000
DTSTAMP:20260425T220928
CREATED:20230929T145539Z
LAST-MODIFIED:20230929T145539Z
UID:10028883-1932903000-1932903000@discover-northamptonshire.co.uk
SUMMARY:Healthy Walks - Barnwell
DESCRIPTION:Would you like to improve your general health\, make new friends and enjoy our beautiful North Northamptonshire district in a safe\, supportive environment? \nThen join the Healthy Walks group – it’s FREE! All their walks are led by trained walk leaders. \nNo need to book\, just turn up! \nFor more information\, contact wesley.neville@freedom-leisure.co.uk or ring on 07500861729. \nThe Barnwell Healthy Walks are weekly\, every Wednesday at 1.30pm. Meeting point is Barnwell Country Park.
URL:https://discover-northamptonshire.co.uk/event/healthy-walks-barnwell/2031-04-02/
LOCATION:Barnwell Country Park\, Barnwell Road\, Oundle\, PE8 5PB
CATEGORIES:Country Park,Outdoors,Walking
ATTACH;FMTTYPE=image/jpeg:https://discover-northamptonshire.co.uk/wp-content/uploads/2023/01/barnwell-1.jpg
END:VEVENT
BEGIN:VEVENT
DTSTART;TZID=Europe/London:20310404T110000
DTEND;TZID=Europe/London:20310404T110000
DTSTAMP:20260425T220928
CREATED:20230929T150653Z
LAST-MODIFIED:20230929T150653Z
UID:10028899-1933066800-1933066800@discover-northamptonshire.co.uk
SUMMARY:Healthy Walks - Nassington
DESCRIPTION:Would you like to improve your general health\, make new friends and enjoy our beautiful North Northamptonshire district in a safe\, supportive environment? \nThen join the Healthy Walks group – it’s FREE! All their walks are led by trained walk leaders. \nNo need to book\, just turn up! \nFor more information\, contact wesley.neville@freedom-leisure.co.uk or ring on 07500861729. \nNassington Healthy Walks take place weekly\, every Friday at 11am. Meeting point is the Black Horse Pub.
URL:https://discover-northamptonshire.co.uk/event/healthy-walks-nassington/2031-04-04/
LOCATION:Black Horse Pub\, 1674 Fotheringhay Rd\,\, Nassington\, Northamptonshire\, PE8 6QU
CATEGORIES:Outdoors,Walking
ATTACH;FMTTYPE=image/jpeg:https://discover-northamptonshire.co.uk/wp-content/uploads/2023/09/girl-3288623_1280.jpg
END:VEVENT
BEGIN:VEVENT
DTSTART;TZID=Europe/London:20310408T110000
DTEND;TZID=Europe/London:20310408T110000
DTSTAMP:20260425T220928
CREATED:20230929T143231Z
LAST-MODIFIED:20230929T143231Z
UID:10028964-1933412400-1933412400@discover-northamptonshire.co.uk
SUMMARY:Healthy Walks - Kings Cliffe
DESCRIPTION:Would you like to improve your general health\, make new friends and enjoy our beautiful North Northamptonshire district in a safe\, supportive environment? \nThen join the Healthy Walks group – it’s FREE! All their walks are led by trained walk leaders. \nNo need to book\, just turn up! \nFor more information\, contact wesley.neville@freedom-leisure.co.uk or ring on 07500861729. \nTheir Kings Cliffe walks are weekly – every Tuesday at 11am\, with their meeting point at the Working Mens Club. \n 
URL:https://discover-northamptonshire.co.uk/event/healthy-walks-kings-cliffe/2031-04-08/
LOCATION:Kings Cliffe Club\, 65 Wood Rd\,\, King's Cliffe\, Northamptonshire\, PE8 6XF
CATEGORIES:Outdoors,Walking
ATTACH;FMTTYPE=image/jpeg:https://discover-northamptonshire.co.uk/wp-content/uploads/2023/09/adult-1867702_1280.jpg
END:VEVENT
BEGIN:VEVENT
DTSTART;TZID=Europe/London:20310409T133000
DTEND;TZID=Europe/London:20310409T133000
DTSTAMP:20260425T220928
CREATED:20230929T145539Z
LAST-MODIFIED:20230929T145539Z
UID:10028973-1933507800-1933507800@discover-northamptonshire.co.uk
SUMMARY:Healthy Walks - Barnwell
DESCRIPTION:Would you like to improve your general health\, make new friends and enjoy our beautiful North Northamptonshire district in a safe\, supportive environment? \nThen join the Healthy Walks group – it’s FREE! All their walks are led by trained walk leaders. \nNo need to book\, just turn up! \nFor more information\, contact wesley.neville@freedom-leisure.co.uk or ring on 07500861729. \nThe Barnwell Healthy Walks are weekly\, every Wednesday at 1.30pm. Meeting point is Barnwell Country Park.
URL:https://discover-northamptonshire.co.uk/event/healthy-walks-barnwell/2031-04-09/
LOCATION:Barnwell Country Park\, Barnwell Road\, Oundle\, PE8 5PB
CATEGORIES:Country Park,Outdoors,Walking
ATTACH;FMTTYPE=image/jpeg:https://discover-northamptonshire.co.uk/wp-content/uploads/2023/01/barnwell-1.jpg
END:VEVENT
BEGIN:VEVENT
DTSTART;TZID=Europe/London:20310411T110000
DTEND;TZID=Europe/London:20310411T110000
DTSTAMP:20260425T220928
CREATED:20230929T150653Z
LAST-MODIFIED:20230929T150653Z
UID:10028993-1933671600-1933671600@discover-northamptonshire.co.uk
SUMMARY:Healthy Walks - Nassington
DESCRIPTION:Would you like to improve your general health\, make new friends and enjoy our beautiful North Northamptonshire district in a safe\, supportive environment? \nThen join the Healthy Walks group – it’s FREE! All their walks are led by trained walk leaders. \nNo need to book\, just turn up! \nFor more information\, contact wesley.neville@freedom-leisure.co.uk or ring on 07500861729. \nNassington Healthy Walks take place weekly\, every Friday at 11am. Meeting point is the Black Horse Pub.
URL:https://discover-northamptonshire.co.uk/event/healthy-walks-nassington/2031-04-11/
LOCATION:Black Horse Pub\, 1674 Fotheringhay Rd\,\, Nassington\, Northamptonshire\, PE8 6QU
CATEGORIES:Outdoors,Walking
ATTACH;FMTTYPE=image/jpeg:https://discover-northamptonshire.co.uk/wp-content/uploads/2023/09/girl-3288623_1280.jpg
END:VEVENT
BEGIN:VEVENT
DTSTART;TZID=Europe/London:20310415T110000
DTEND;TZID=Europe/London:20310415T110000
DTSTAMP:20260425T220928
CREATED:20230929T143231Z
LAST-MODIFIED:20230929T143231Z
UID:10029103-1934017200-1934017200@discover-northamptonshire.co.uk
SUMMARY:Healthy Walks - Kings Cliffe
DESCRIPTION:Would you like to improve your general health\, make new friends and enjoy our beautiful North Northamptonshire district in a safe\, supportive environment? \nThen join the Healthy Walks group – it’s FREE! All their walks are led by trained walk leaders. \nNo need to book\, just turn up! \nFor more information\, contact wesley.neville@freedom-leisure.co.uk or ring on 07500861729. \nTheir Kings Cliffe walks are weekly – every Tuesday at 11am\, with their meeting point at the Working Mens Club. \n 
URL:https://discover-northamptonshire.co.uk/event/healthy-walks-kings-cliffe/2031-04-15/
LOCATION:Kings Cliffe Club\, 65 Wood Rd\,\, King's Cliffe\, Northamptonshire\, PE8 6XF
CATEGORIES:Outdoors,Walking
ATTACH;FMTTYPE=image/jpeg:https://discover-northamptonshire.co.uk/wp-content/uploads/2023/09/adult-1867702_1280.jpg
END:VEVENT
BEGIN:VEVENT
DTSTART;TZID=Europe/London:20310416T133000
DTEND;TZID=Europe/London:20310416T133000
DTSTAMP:20260425T220928
CREATED:20230929T145539Z
LAST-MODIFIED:20230929T145539Z
UID:10029113-1934112600-1934112600@discover-northamptonshire.co.uk
SUMMARY:Healthy Walks - Barnwell
DESCRIPTION:Would you like to improve your general health\, make new friends and enjoy our beautiful North Northamptonshire district in a safe\, supportive environment? \nThen join the Healthy Walks group – it’s FREE! All their walks are led by trained walk leaders. \nNo need to book\, just turn up! \nFor more information\, contact wesley.neville@freedom-leisure.co.uk or ring on 07500861729. \nThe Barnwell Healthy Walks are weekly\, every Wednesday at 1.30pm. Meeting point is Barnwell Country Park.
URL:https://discover-northamptonshire.co.uk/event/healthy-walks-barnwell/2031-04-16/
LOCATION:Barnwell Country Park\, Barnwell Road\, Oundle\, PE8 5PB
CATEGORIES:Country Park,Outdoors,Walking
ATTACH;FMTTYPE=image/jpeg:https://discover-northamptonshire.co.uk/wp-content/uploads/2023/01/barnwell-1.jpg
END:VEVENT
BEGIN:VEVENT
DTSTART;TZID=Europe/London:20310418T110000
DTEND;TZID=Europe/London:20310418T110000
DTSTAMP:20260425T220928
CREATED:20230929T150653Z
LAST-MODIFIED:20230929T150653Z
UID:10029178-1934276400-1934276400@discover-northamptonshire.co.uk
SUMMARY:Healthy Walks - Nassington
DESCRIPTION:Would you like to improve your general health\, make new friends and enjoy our beautiful North Northamptonshire district in a safe\, supportive environment? \nThen join the Healthy Walks group – it’s FREE! All their walks are led by trained walk leaders. \nNo need to book\, just turn up! \nFor more information\, contact wesley.neville@freedom-leisure.co.uk or ring on 07500861729. \nNassington Healthy Walks take place weekly\, every Friday at 11am. Meeting point is the Black Horse Pub.
URL:https://discover-northamptonshire.co.uk/event/healthy-walks-nassington/2031-04-18/
LOCATION:Black Horse Pub\, 1674 Fotheringhay Rd\,\, Nassington\, Northamptonshire\, PE8 6QU
CATEGORIES:Outdoors,Walking
ATTACH;FMTTYPE=image/jpeg:https://discover-northamptonshire.co.uk/wp-content/uploads/2023/09/girl-3288623_1280.jpg
END:VEVENT
BEGIN:VEVENT
DTSTART;TZID=Europe/London:20310422T110000
DTEND;TZID=Europe/London:20310422T110000
DTSTAMP:20260425T220928
CREATED:20230929T143231Z
LAST-MODIFIED:20230929T143231Z
UID:10029193-1934622000-1934622000@discover-northamptonshire.co.uk
SUMMARY:Healthy Walks - Kings Cliffe
DESCRIPTION:Would you like to improve your general health\, make new friends and enjoy our beautiful North Northamptonshire district in a safe\, supportive environment? \nThen join the Healthy Walks group – it’s FREE! All their walks are led by trained walk leaders. \nNo need to book\, just turn up! \nFor more information\, contact wesley.neville@freedom-leisure.co.uk or ring on 07500861729. \nTheir Kings Cliffe walks are weekly – every Tuesday at 11am\, with their meeting point at the Working Mens Club. \n 
URL:https://discover-northamptonshire.co.uk/event/healthy-walks-kings-cliffe/2031-04-22/
LOCATION:Kings Cliffe Club\, 65 Wood Rd\,\, King's Cliffe\, Northamptonshire\, PE8 6XF
CATEGORIES:Outdoors,Walking
ATTACH;FMTTYPE=image/jpeg:https://discover-northamptonshire.co.uk/wp-content/uploads/2023/09/adult-1867702_1280.jpg
END:VEVENT
BEGIN:VEVENT
DTSTART;TZID=Europe/London:20310423T133000
DTEND;TZID=Europe/London:20310423T133000
DTSTAMP:20260425T220928
CREATED:20230929T145539Z
LAST-MODIFIED:20230929T145539Z
UID:10029202-1934717400-1934717400@discover-northamptonshire.co.uk
SUMMARY:Healthy Walks - Barnwell
DESCRIPTION:Would you like to improve your general health\, make new friends and enjoy our beautiful North Northamptonshire district in a safe\, supportive environment? \nThen join the Healthy Walks group – it’s FREE! All their walks are led by trained walk leaders. \nNo need to book\, just turn up! \nFor more information\, contact wesley.neville@freedom-leisure.co.uk or ring on 07500861729. \nThe Barnwell Healthy Walks are weekly\, every Wednesday at 1.30pm. Meeting point is Barnwell Country Park.
URL:https://discover-northamptonshire.co.uk/event/healthy-walks-barnwell/2031-04-23/
LOCATION:Barnwell Country Park\, Barnwell Road\, Oundle\, PE8 5PB
CATEGORIES:Country Park,Outdoors,Walking
ATTACH;FMTTYPE=image/jpeg:https://discover-northamptonshire.co.uk/wp-content/uploads/2023/01/barnwell-1.jpg
END:VEVENT
END:VCALENDAR