BEGIN:VCALENDAR
VERSION:2.0
PRODID:-//Discover Northamptonshire - ECPv6.15.18//NONSGML v1.0//EN
CALSCALE:GREGORIAN
METHOD:PUBLISH
X-WR-CALNAME:Discover Northamptonshire
X-ORIGINAL-URL:https://discover-northamptonshire.co.uk
X-WR-CALDESC:Events for Discover Northamptonshire
REFRESH-INTERVAL;VALUE=DURATION:PT1H
X-Robots-Tag:noindex
X-PUBLISHED-TTL:PT1H
BEGIN:VTIMEZONE
TZID:Europe/London
BEGIN:DAYLIGHT
TZOFFSETFROM:+0000
TZOFFSETTO:+0100
TZNAME:BST
DTSTART:20250330T010000
END:DAYLIGHT
BEGIN:STANDARD
TZOFFSETFROM:+0100
TZOFFSETTO:+0000
TZNAME:GMT
DTSTART:20251026T010000
END:STANDARD
BEGIN:DAYLIGHT
TZOFFSETFROM:+0000
TZOFFSETTO:+0100
TZNAME:BST
DTSTART:20260329T010000
END:DAYLIGHT
BEGIN:STANDARD
TZOFFSETFROM:+0100
TZOFFSETTO:+0000
TZNAME:GMT
DTSTART:20261025T010000
END:STANDARD
BEGIN:DAYLIGHT
TZOFFSETFROM:+0000
TZOFFSETTO:+0100
TZNAME:BST
DTSTART:20270328T010000
END:DAYLIGHT
BEGIN:STANDARD
TZOFFSETFROM:+0100
TZOFFSETTO:+0000
TZNAME:GMT
DTSTART:20271031T010000
END:STANDARD
END:VTIMEZONE
BEGIN:VEVENT
DTSTART;VALUE=DATE:20260510
DTEND;VALUE=DATE:20260511
DTSTAMP:20260426T033417
CREATED:20250729T204722Z
LAST-MODIFIED:20250729T204722Z
UID:10023097-1778371200-1778457599@discover-northamptonshire.co.uk
SUMMARY:Shires and Spires Ultra
DESCRIPTION:A five-distance circular event that has something for everyone. The event features a mixture of trails and roads over 10k (roads)\, half-marathon\, three-quarter marathon (new in 2025 for anti clockwise!)\, marathon and ultra marathon distances. \nAll the race options start and finish at Naseby Village Hall\, nestled at the heart of the quaint village of Naseby – made famous as the home of the Battle of Naseby in 1645\, a major scuffle during the English Civil War. \nNaseby is a fantastic central location\, with easy access to the A14\, M1 and M6. From there\, the route takes runners across the Northamptonshire countryside\, with the multi-terrain marathon and ultra taking them past a host of country houses. Expect to see Holdenby House\, Cottesbrooke\, and Althorp – the home of the Spencer family and final resting place of Princess Diana.
URL:https://discover-northamptonshire.co.uk/event/shires-and-spires-ultra/
LOCATION:Northamptonshire\, Northamptonshire
CATEGORIES:Outdoors,Running,Sports
ATTACH;FMTTYPE=image/jpeg:https://discover-northamptonshire.co.uk/wp-content/uploads/2025/04/Shires-and-Spires-Ultra.jpg
END:VEVENT
BEGIN:VEVENT
DTSTART;TZID=Europe/London:20260516T090000
DTEND;TZID=Europe/London:20260516T120000
DTSTAMP:20260426T033417
CREATED:20260327T101445Z
LAST-MODIFIED:20260330T160759Z
UID:10028792-1778922000-1778932800@discover-northamptonshire.co.uk
SUMMARY:Brewery Cycle Sportive
DESCRIPTION:Our Cycle Sportive is back again for its seventh year! We’ve teamed up with Let’s Go Velo\, whose cycling events are some of the most social and enjoyable sportives in the country. They have created the Brewery Cycle Series with the majority of their cycle events taking place from amazing breweries\, as well as distilleries and cider mills all around the country. \nThe Towcester Mill Brewery Sportive is a fantastic adventure through the Northamptonshire countryside taking you along the most scenic routes which are fully marked and well organised. With two distances of 62km (38 miles) and 96 km (60 miles) this sportive is for everyone! \nDate: Sat 16 May 2026\nEvent HQ: Towcester Mill\, Chantry Lane\, Towcester NN12 6YY\nHalf Pint: 62km (38 miles)\nFull Pint: 96km (60 miles)\nCost: From £30\nThis sells out quickly so to book your place and find out more information including routes please visit Let’s Go Velo. \nFOOD! Available from Moo Hatch from 11.30am
URL:https://discover-northamptonshire.co.uk/event/brewery-cycle-sportive/
LOCATION:Towcester Mill Brewery\, Chantry Lane\,\, Towcester\, Northamptonshire\, NN12 6YY\, United Kingdom
CATEGORIES:Food and Drink,Outdoors,Sports,Summer
ATTACH;FMTTYPE=image/jpeg:https://discover-northamptonshire.co.uk/wp-content/uploads/2026/03/cyclegroup16x9-scaled.jpg
END:VEVENT
END:VCALENDAR