BEGIN:VCALENDAR
VERSION:2.0
PRODID:-//Discover Northamptonshire - ECPv6.15.18//NONSGML v1.0//EN
CALSCALE:GREGORIAN
METHOD:PUBLISH
X-ORIGINAL-URL:https://discover-northamptonshire.co.uk
X-WR-CALDESC:Events for Discover Northamptonshire
REFRESH-INTERVAL;VALUE=DURATION:PT1H
X-Robots-Tag:noindex
X-PUBLISHED-TTL:PT1H
BEGIN:VTIMEZONE
TZID:Europe/London
BEGIN:DAYLIGHT
TZOFFSETFROM:+0000
TZOFFSETTO:+0100
TZNAME:BST
DTSTART:20250330T010000
END:DAYLIGHT
BEGIN:STANDARD
TZOFFSETFROM:+0100
TZOFFSETTO:+0000
TZNAME:GMT
DTSTART:20251026T010000
END:STANDARD
BEGIN:DAYLIGHT
TZOFFSETFROM:+0000
TZOFFSETTO:+0100
TZNAME:BST
DTSTART:20260329T010000
END:DAYLIGHT
BEGIN:STANDARD
TZOFFSETFROM:+0100
TZOFFSETTO:+0000
TZNAME:GMT
DTSTART:20261025T010000
END:STANDARD
BEGIN:DAYLIGHT
TZOFFSETFROM:+0000
TZOFFSETTO:+0100
TZNAME:BST
DTSTART:20270328T010000
END:DAYLIGHT
BEGIN:STANDARD
TZOFFSETFROM:+0100
TZOFFSETTO:+0000
TZNAME:GMT
DTSTART:20271031T010000
END:STANDARD
END:VTIMEZONE
BEGIN:VEVENT
DTSTART;TZID=Europe/London:20260330T190000
DTEND;TZID=Europe/London:20260330T220000
DTSTAMP:20260426T034457
CREATED:20260306T115746Z
LAST-MODIFIED:20260313T192616Z
UID:10028645-1774897200-1774908000@discover-northamptonshire.co.uk
SUMMARY:Social Night
DESCRIPTION:Join us every Monday for a relaxed evening with fellow climbers. Enjoy free pizza while you climb\, chat and unwind. 🍕 \nThe Pinnacle Bouldering Centre is Northampton’s dedicated indoor bouldering gym\, offering climbing for all abilities in a welcoming and supportive environment. With regularly reset problems\, training facilities and a strong community of climbers\, the centre provides a space where beginners can learn the fundamentals and experienced climbers can push their limits. Alongside open climbing sessions\, The Pinnacle Bouldering Centre runs competitions\, coaching sessions and social events\, helping grow the local climbing scene and making climbing accessible to everyone.
URL:https://discover-northamptonshire.co.uk/event/social-night-2/
LOCATION:The Pinnacle Bouldering Centre\, Weston Favell Shopping Centre\, Wellingborough Road\, Northampton\, NN3 8JZ
CATEGORIES:Sports
ATTACH;FMTTYPE=image/jpeg:https://discover-northamptonshire.co.uk/wp-content/uploads/2026/03/Social-Night3.jpg
END:VEVENT
END:VCALENDAR