BEGIN:VCALENDAR
VERSION:2.0
PRODID:-//Discover Northamptonshire - ECPv6.15.18//NONSGML v1.0//EN
CALSCALE:GREGORIAN
METHOD:PUBLISH
X-WR-CALNAME:Discover Northamptonshire
X-ORIGINAL-URL:https://discover-northamptonshire.co.uk
X-WR-CALDESC:Events for Discover Northamptonshire
REFRESH-INTERVAL;VALUE=DURATION:PT1H
X-Robots-Tag:noindex
X-PUBLISHED-TTL:PT1H
BEGIN:VTIMEZONE
TZID:Europe/London
BEGIN:DAYLIGHT
TZOFFSETFROM:+0000
TZOFFSETTO:+0100
TZNAME:BST
DTSTART:20250330T010000
END:DAYLIGHT
BEGIN:STANDARD
TZOFFSETFROM:+0100
TZOFFSETTO:+0000
TZNAME:GMT
DTSTART:20251026T010000
END:STANDARD
BEGIN:DAYLIGHT
TZOFFSETFROM:+0000
TZOFFSETTO:+0100
TZNAME:BST
DTSTART:20260329T010000
END:DAYLIGHT
BEGIN:STANDARD
TZOFFSETFROM:+0100
TZOFFSETTO:+0000
TZNAME:GMT
DTSTART:20261025T010000
END:STANDARD
BEGIN:DAYLIGHT
TZOFFSETFROM:+0000
TZOFFSETTO:+0100
TZNAME:BST
DTSTART:20270328T010000
END:DAYLIGHT
BEGIN:STANDARD
TZOFFSETFROM:+0100
TZOFFSETTO:+0000
TZNAME:GMT
DTSTART:20271031T010000
END:STANDARD
END:VTIMEZONE
BEGIN:VEVENT
DTSTART;TZID=Europe/London:20260403T000000
DTEND;TZID=Europe/London:20260406T000000
DTSTAMP:20260426T032953
CREATED:20260326T131035Z
LAST-MODIFIED:20260326T143121Z
UID:10028777-1775174400-1775433600@discover-northamptonshire.co.uk
SUMMARY:Raffle Routes
DESCRIPTION:Climb a route. Collect a ticket. Win a prize.\nRaffle Routes are back this Easter weekend 👀\nIf you joined us last year\, you’ll know the drill…\nThere will be selected raffle lines set around the centre but you won’t know which ones they are until you reach the top 👀\nPick a route\, climb it\, and if it’s a raffle line\, you’ll find a ticket waiting for you.\nRip it off\, bring it down\, fill in your details and drop it at the front desk to be in with a chance of winning.\nEach raffle route has its own prizes\, with both a main and runner-up prize on every line. The more you climb\, the better your chances.\nOver £200 worth of prizes up for grabs.\nWinners will be drawn on site after the weekend… keep an eye out 👀
URL:https://discover-northamptonshire.co.uk/event/raffle-routes/
CATEGORIES:Family friendly,Sports
ATTACH;FMTTYPE=image/jpeg:https://discover-northamptonshire.co.uk/wp-content/uploads/2026/03/17-APRIL-PHOTO-PINNACLE-13-scaled.jpg
END:VEVENT
END:VCALENDAR