BEGIN:VCALENDAR
VERSION:2.0
PRODID:-//Discover Northamptonshire - ECPv6.15.18//NONSGML v1.0//EN
CALSCALE:GREGORIAN
METHOD:PUBLISH
X-ORIGINAL-URL:https://discover-northamptonshire.co.uk
X-WR-CALDESC:Events for Discover Northamptonshire
REFRESH-INTERVAL;VALUE=DURATION:PT1H
X-Robots-Tag:noindex
X-PUBLISHED-TTL:PT1H
BEGIN:VTIMEZONE
TZID:Europe/London
BEGIN:DAYLIGHT
TZOFFSETFROM:+0000
TZOFFSETTO:+0100
TZNAME:BST
DTSTART:20250330T010000
END:DAYLIGHT
BEGIN:STANDARD
TZOFFSETFROM:+0100
TZOFFSETTO:+0000
TZNAME:GMT
DTSTART:20251026T010000
END:STANDARD
BEGIN:DAYLIGHT
TZOFFSETFROM:+0000
TZOFFSETTO:+0100
TZNAME:BST
DTSTART:20260329T010000
END:DAYLIGHT
BEGIN:STANDARD
TZOFFSETFROM:+0100
TZOFFSETTO:+0000
TZNAME:GMT
DTSTART:20261025T010000
END:STANDARD
BEGIN:DAYLIGHT
TZOFFSETFROM:+0000
TZOFFSETTO:+0100
TZNAME:BST
DTSTART:20270328T010000
END:DAYLIGHT
BEGIN:STANDARD
TZOFFSETFROM:+0100
TZOFFSETTO:+0000
TZNAME:GMT
DTSTART:20271031T010000
END:STANDARD
END:VTIMEZONE
BEGIN:VEVENT
DTSTART;TZID=Europe/London:20260427T000000
DTEND;TZID=Europe/London:20260427T000000
DTSTAMP:20260426T021210
CREATED:20260326T132244Z
LAST-MODIFIED:20260408T141731Z
UID:10028945-1777248000-1777248000@discover-northamptonshire.co.uk
SUMMARY:Pizza Social Night
DESCRIPTION:Join us every Monday for a relaxed evening with fellow climbers. Enjoy free pizza while you climb\, chat and unwind 🍕
URL:https://discover-northamptonshire.co.uk/event/pizza-social-night/
LOCATION:The Pinnacle Bouldering Centre\, Weston Favell Shopping Centre\, Wellingborough Road\, Northampton\, NN3 8JZ
CATEGORIES:Family friendly,Sports
ATTACH;FMTTYPE=image/jpeg:https://discover-northamptonshire.co.uk/wp-content/uploads/2026/03/Pizza-Social-Night7.jpg
END:VEVENT
BEGIN:VEVENT
DTSTART;TZID=Europe/London:20260427T000000
DTEND;TZID=Europe/London:20260427T000000
DTSTAMP:20260426T021210
CREATED:20260326T134803Z
LAST-MODIFIED:20260326T142637Z
UID:10028775-1777248000-1777248000@discover-northamptonshire.co.uk
SUMMARY:Rockeez Tots
DESCRIPTION:Our weekly session for children aged 4 and under\, focusing on the fundamentals of climbing. Through fun\, game-based activities\, little ones build balance\, agility and coordination on the ground and the walls. £7 per child if booked as a half term block or £8.50 per individual session.
URL:https://discover-northamptonshire.co.uk/event/rockeez-tots-5/
LOCATION:The Pinnacle Bouldering Centre\, Weston Favell Shopping Centre\, Wellingborough Road\, Northampton\, NN3 8JZ
CATEGORIES:Family friendly,Sports
ATTACH;FMTTYPE=image/jpeg:https://discover-northamptonshire.co.uk/wp-content/uploads/2026/03/Home-Schooling-Bouldering3.jpeg
END:VEVENT
BEGIN:VEVENT
DTSTART;TZID=Europe/London:20260429T000000
DTEND;TZID=Europe/London:20260429T000000
DTSTAMP:20260426T021210
CREATED:20260326T123135Z
LAST-MODIFIED:20260408T142650Z
UID:10028949-1777420800-1777420800@discover-northamptonshire.co.uk
SUMMARY:Pizza Social Night
DESCRIPTION:Join us every Monday for a relaxed evening with fellow climbers. Enjoy free pizza while you climb\, chat and unwind 🍕
URL:https://discover-northamptonshire.co.uk/event/pizza-social-night-5/
LOCATION:The Pinnacle Climbing Centre\, Unit 1\, Minton Business Centre\, Main Rd\, Far Cotton\,\, Northampton\, NN4 8ES
CATEGORIES:Family friendly,Sports
ATTACH;FMTTYPE=image/jpeg:https://discover-northamptonshire.co.uk/wp-content/uploads/2026/03/Pizza-Social-Night5.jpg
END:VEVENT
BEGIN:VEVENT
DTSTART;TZID=Europe/London:20260430T000000
DTEND;TZID=Europe/London:20260430T000000
DTSTAMP:20260426T021210
CREATED:20260326T130755Z
LAST-MODIFIED:20260408T141536Z
UID:10028942-1777507200-1777507200@discover-northamptonshire.co.uk
SUMMARY:One Night Bloc
DESCRIPTION:One Night Bloc is a fast paced\, high stakes challenge\, where you only get one shot to prove yourself. The problem drops at 5pm and disappears at 10pm. No second chances\, no extensions. It’s just you\, your skills and 5 hours to crack it.
URL:https://discover-northamptonshire.co.uk/event/one-night-bloc/
LOCATION:The Pinnacle Bouldering Centre\, Weston Favell Shopping Centre\, Wellingborough Road\, Northampton\, NN3 8JZ
CATEGORIES:Family friendly,Sports
ATTACH;FMTTYPE=image/jpeg:https://discover-northamptonshire.co.uk/wp-content/uploads/2026/03/One-Night-Bloc7.jpg
END:VEVENT
END:VCALENDAR