BEGIN:VCALENDAR
VERSION:2.0
PRODID:-//Discover Northamptonshire - ECPv6.15.18//NONSGML v1.0//EN
CALSCALE:GREGORIAN
METHOD:PUBLISH
X-ORIGINAL-URL:https://discover-northamptonshire.co.uk
X-WR-CALDESC:Events for Discover Northamptonshire
REFRESH-INTERVAL;VALUE=DURATION:PT1H
X-Robots-Tag:noindex
X-PUBLISHED-TTL:PT1H
BEGIN:VTIMEZONE
TZID:Europe/London
BEGIN:DAYLIGHT
TZOFFSETFROM:+0000
TZOFFSETTO:+0100
TZNAME:BST
DTSTART:20250330T010000
END:DAYLIGHT
BEGIN:STANDARD
TZOFFSETFROM:+0100
TZOFFSETTO:+0000
TZNAME:GMT
DTSTART:20251026T010000
END:STANDARD
BEGIN:DAYLIGHT
TZOFFSETFROM:+0000
TZOFFSETTO:+0100
TZNAME:BST
DTSTART:20260329T010000
END:DAYLIGHT
BEGIN:STANDARD
TZOFFSETFROM:+0100
TZOFFSETTO:+0000
TZNAME:GMT
DTSTART:20261025T010000
END:STANDARD
BEGIN:DAYLIGHT
TZOFFSETFROM:+0000
TZOFFSETTO:+0100
TZNAME:BST
DTSTART:20270328T010000
END:DAYLIGHT
BEGIN:STANDARD
TZOFFSETFROM:+0100
TZOFFSETTO:+0000
TZNAME:GMT
DTSTART:20271031T010000
END:STANDARD
END:VTIMEZONE
BEGIN:VEVENT
DTSTART;TZID=Europe/London:20260417T000000
DTEND;TZID=Europe/London:20260417T000000
DTSTAMP:20260425T191153
CREATED:20260320T151640Z
LAST-MODIFIED:20260323T095835Z
UID:10028732-1776384000-1776384000@discover-northamptonshire.co.uk
SUMMARY:Quiz Night
DESCRIPTION:Raising funds for St Marys church\, Higham Ferrers. Join us for a night of general knowledge quizzes\, Play Your Cards Right\, and a selection of prizes to be won. Licenced bar and refreshments available on night. Teams of 6 required\, £10 per person.\nTo enter text Amanda via 07764 589342 or email janejackson59@outlook.com\nNo parking on site except for disabled. Free parking available in Market Sqauare or Midland Road\, NN108BT. Bede House is an accessible building.
URL:https://discover-northamptonshire.co.uk/event/quiz-night/
LOCATION:The Bede House\, Higham Ferrers\, Rushden\, NN10 8BT
CATEGORIES:Charity,Quiz
ATTACH;FMTTYPE=image/jpeg:https://discover-northamptonshire.co.uk/wp-content/uploads/2026/03/Quiz-Night-1.jpg
END:VEVENT
BEGIN:VEVENT
DTSTART;TZID=Europe/London:20260409T123000
DTEND;TZID=Europe/London:20260409T153000
DTSTAMP:20260425T191153
CREATED:20260320T152933Z
LAST-MODIFIED:20260323T100303Z
UID:10028734-1775737800-1775748600@discover-northamptonshire.co.uk
SUMMARY:Domino Toppling Workshop
DESCRIPTION:Join one of the UK’s top professional domino artists and get creative this Easter. With thousands of multi coloured dominoes to use there is no limit to what you could create\, and learn some professional tips along the way. This session is suitable for children 5 years and up\, all children must be accompanied by an adult. Stay as long as you like at this drop in session\, no need to book.\n£3 per child to enter\, accompanying adults free!\nNo parking on site but free parking available on Market Square and Midland Road\, NN108BT\, less than 5 minutes away. Bede House is an accessible building.
URL:https://discover-northamptonshire.co.uk/event/domino-toppling-workshop/
LOCATION:The Bede House\, Higham Ferrers\, Rushden\, NN10 8BT
CATEGORIES:Easter,Family friendly,SEN Friendly
ATTACH;FMTTYPE=image/jpeg:https://discover-northamptonshire.co.uk/wp-content/uploads/2026/03/FB_IMG_1774005273300.jpg
END:VEVENT
END:VCALENDAR