BEGIN:VCALENDAR
VERSION:2.0
PRODID:-//Discover Northamptonshire - ECPv6.15.18//NONSGML v1.0//EN
CALSCALE:GREGORIAN
METHOD:PUBLISH
X-ORIGINAL-URL:https://discover-northamptonshire.co.uk
X-WR-CALDESC:Events for Discover Northamptonshire
REFRESH-INTERVAL;VALUE=DURATION:PT1H
X-Robots-Tag:noindex
X-PUBLISHED-TTL:PT1H
BEGIN:VTIMEZONE
TZID:Europe/London
BEGIN:DAYLIGHT
TZOFFSETFROM:+0000
TZOFFSETTO:+0100
TZNAME:BST
DTSTART:20250330T010000
END:DAYLIGHT
BEGIN:STANDARD
TZOFFSETFROM:+0100
TZOFFSETTO:+0000
TZNAME:GMT
DTSTART:20251026T010000
END:STANDARD
BEGIN:DAYLIGHT
TZOFFSETFROM:+0000
TZOFFSETTO:+0100
TZNAME:BST
DTSTART:20260329T010000
END:DAYLIGHT
BEGIN:STANDARD
TZOFFSETFROM:+0100
TZOFFSETTO:+0000
TZNAME:GMT
DTSTART:20261025T010000
END:STANDARD
BEGIN:DAYLIGHT
TZOFFSETFROM:+0000
TZOFFSETTO:+0100
TZNAME:BST
DTSTART:20270328T010000
END:DAYLIGHT
BEGIN:STANDARD
TZOFFSETFROM:+0100
TZOFFSETTO:+0000
TZNAME:GMT
DTSTART:20271031T010000
END:STANDARD
END:VTIMEZONE
BEGIN:VEVENT
DTSTART;TZID=Europe/London:20260926T193000
DTEND;TZID=Europe/London:20260926T220000
DTSTAMP:20260424T225533
CREATED:20260412T193719Z
LAST-MODIFIED:20260414T094621Z
UID:10029041-1790451000-1790460000@discover-northamptonshire.co.uk
SUMMARY:That's so 90s
DESCRIPTION:It’s time to zig-a-zig-ah your way into the weekend! The ultimate 90s night out is here! \nThat’s So 90’s – The 90’s Nostalgia Party \nFire up your Nokia\, lace up those platforms\, and dig out that bubblegum lip gloss! The 90s called\, and you’re invited to the fiercest party of the year!\nFrom the ultimate pop girlies\, The Spice Girls and Britney \, to boyband royalty \, Take That and the Backstreet Boys. That’s So 90s is a full-on time machine to the wildest decade ever. \nThis is your chance to dress up\, dance\, and scream every lyric like it’s 1999.
URL:https://discover-northamptonshire.co.uk/event/thats-so-90s/
LOCATION:Lighthouse Theatre\, Kettering Conference Centre Thurston Drive\, Kettering
CATEGORIES:Music
ATTACH;FMTTYPE=image/png:https://discover-northamptonshire.co.uk/wp-content/uploads/2026/04/Thats-so-90s-.png
END:VEVENT
END:VCALENDAR