BEGIN:VCALENDAR
VERSION:2.0
PRODID:-//Discover Northamptonshire - ECPv6.15.18//NONSGML v1.0//EN
CALSCALE:GREGORIAN
METHOD:PUBLISH
X-WR-CALNAME:Discover Northamptonshire
X-ORIGINAL-URL:https://discover-northamptonshire.co.uk
X-WR-CALDESC:Events for Discover Northamptonshire
REFRESH-INTERVAL;VALUE=DURATION:PT1H
X-Robots-Tag:noindex
X-PUBLISHED-TTL:PT1H
BEGIN:VTIMEZONE
TZID:Europe/London
BEGIN:DAYLIGHT
TZOFFSETFROM:+0000
TZOFFSETTO:+0100
TZNAME:BST
DTSTART:20250330T010000
END:DAYLIGHT
BEGIN:STANDARD
TZOFFSETFROM:+0100
TZOFFSETTO:+0000
TZNAME:GMT
DTSTART:20251026T010000
END:STANDARD
BEGIN:DAYLIGHT
TZOFFSETFROM:+0000
TZOFFSETTO:+0100
TZNAME:BST
DTSTART:20260329T010000
END:DAYLIGHT
BEGIN:STANDARD
TZOFFSETFROM:+0100
TZOFFSETTO:+0000
TZNAME:GMT
DTSTART:20261025T010000
END:STANDARD
BEGIN:DAYLIGHT
TZOFFSETFROM:+0000
TZOFFSETTO:+0100
TZNAME:BST
DTSTART:20270328T010000
END:DAYLIGHT
BEGIN:STANDARD
TZOFFSETFROM:+0100
TZOFFSETTO:+0000
TZNAME:GMT
DTSTART:20271031T010000
END:STANDARD
END:VTIMEZONE
BEGIN:VEVENT
DTSTART;TZID=Europe/London:20260509T084500
DTEND;TZID=Europe/London:20260509T130000
DTSTAMP:20260424T023737
CREATED:20260415T085240Z
LAST-MODIFIED:20260415T085923Z
UID:10029052-1778316300-1778331600@discover-northamptonshire.co.uk
SUMMARY:Naseby Battlefield Tour
DESCRIPTION:The best way to truly understand a battle is to walk in the footsteps of those who took part. Our tours follow those footsteps and give you unique access. The Naseby Battlefield Project offers public tours of Naseby Battlefield eight times a year. \nThese tours are often enriched by friends and supporting reenactor groups bringing key-aspects of the story to life on the actual battlefield. You will be surprised who you might meet. \nThe prices for public tours start at £25.00 per person. For this price we include our specially commissioned\, and highly rated Battlefield Maps & Interpretation Booklets – which are exclusive to Battlefield Tourists. To make sure that these are available we ask for you to pre-book the Battlefield Tours. We are sorry but we cannot accept visitors on the day. \nWe limit our group sizes to around 20 people. \nPlease note: The full tour lasts about 4 hours\, and will take you across the entire battlefield\, and extends to several miles. Public Tours offer some seats in a shared mini-bus\, but some of you might prefer to use your own cars. Either way we will need vehicles to get across the whole battlefield. \nRegrettably\, dogs are not allowed on our tours as some of it involves walking through working farmland. \nTo keep up to date with Naseby Battlefield Project news and battlefield tour dates visit out Facebook page or email us at enquiries@naseby.com
URL:https://discover-northamptonshire.co.uk/event/naseby-battlefield-tour-2/
LOCATION:Naseby Battlefield\, Clipston Rd\,\, Naseby\, Northamptonshire\, NN6 6BU
CATEGORIES:History,Outdoors,Tour,Walking
ATTACH;FMTTYPE=image/jpeg:https://discover-northamptonshire.co.uk/wp-content/uploads/2026/04/301A11431-scaled.jpg
END:VEVENT
BEGIN:VEVENT
DTSTART;TZID=Europe/London:20260614T134500
DTEND;TZID=Europe/London:20260614T180000
DTSTAMP:20260424T023737
CREATED:20260415T085710Z
LAST-MODIFIED:20260415T090109Z
UID:10029053-1781444700-1781460000@discover-northamptonshire.co.uk
SUMMARY:Naseby Battlefield Tour
DESCRIPTION:The best way to truly understand a battle is to walk in the footsteps of those who took part. Our tours follow those footsteps and give you unique access. The Naseby Battlefield Project offers public tours of Naseby Battlefield eight times a year. \nThese tours are often enriched by friends and supporting reenactor groups bringing key-aspects of the story to life on the actual battlefield. You will be surprised who you might meet. \nThe prices for public tours start at £25.00 per person. For this price we include our specially commissioned\, and highly rated Battlefield Maps & Interpretation Booklets – which are exclusive to Battlefield Tourists. To make sure that these are available we ask for you to pre-book the Battlefield Tours. We are sorry but we cannot accept visitors on the day. \nWe limit our group sizes to around 20 people. \nPlease note: The full tour lasts about 4 hours\, and will take you across the entire battlefield\, and extends to several miles. Public Tours offer some seats in a shared mini-bus\, but some of you might prefer to use your own cars. Either way we will need vehicles to get across the whole battlefield. \nRegrettably\, dogs are not allowed on our tours as some of it involves walking through working farmland. \nTo keep up to date with Naseby Battlefield Project news and battlefield tour dates visit out Facebook page or email us at enquiries@naseby.com
URL:https://discover-northamptonshire.co.uk/event/naseby-battlefield-tour-3/
LOCATION:Naseby Battlefield\, Clipston Rd\,\, Naseby\, Northamptonshire\, NN6 6BU
CATEGORIES:History,Outdoors,Tour,Walking
ATTACH;FMTTYPE=image/jpeg:https://discover-northamptonshire.co.uk/wp-content/uploads/2026/04/301A11432-scaled.jpg
END:VEVENT
BEGIN:VEVENT
DTSTART;TZID=Europe/London:20260628T134500
DTEND;TZID=Europe/London:20260628T180000
DTSTAMP:20260424T023737
CREATED:20260415T090015Z
LAST-MODIFIED:20260415T090305Z
UID:10029054-1782654300-1782669600@discover-northamptonshire.co.uk
SUMMARY:Naseby Battlefield Tour
DESCRIPTION:The best way to truly understand a battle is to walk in the footsteps of those who took part. Our tours follow those footsteps and give you unique access. The Naseby Battlefield Project offers public tours of Naseby Battlefield eight times a year. \nThese tours are often enriched by friends and supporting reenactor groups bringing key-aspects of the story to life on the actual battlefield. You will be surprised who you might meet. \nThe prices for public tours start at £25.00 per person. For this price we include our specially commissioned\, and highly rated Battlefield Maps & Interpretation Booklets – which are exclusive to Battlefield Tourists. To make sure that these are available we ask for you to pre-book the Battlefield Tours. We are sorry but we cannot accept visitors on the day. \nWe limit our group sizes to around 20 people. \nPlease note: The full tour lasts about 4 hours\, and will take you across the entire battlefield\, and extends to several miles. Public Tours offer some seats in a shared mini-bus\, but some of you might prefer to use your own cars. Either way we will need vehicles to get across the whole battlefield. \nRegrettably\, dogs are not allowed on our tours as some of it involves walking through working farmland. \nTo keep up to date with Naseby Battlefield Project news and battlefield tour dates visit out Facebook page or email us at enquiries@naseby.com
URL:https://discover-northamptonshire.co.uk/event/naseby-battlefield-tour-4/
LOCATION:Naseby Battlefield\, Clipston Rd\,\, Naseby\, Northamptonshire\, NN6 6BU
CATEGORIES:History,Outdoors,Tour,Walking
ATTACH;FMTTYPE=image/jpeg:https://discover-northamptonshire.co.uk/wp-content/uploads/2026/04/301A11433-scaled.jpg
END:VEVENT
BEGIN:VEVENT
DTSTART;TZID=Europe/London:20260704T084500
DTEND;TZID=Europe/London:20260704T130000
DTSTAMP:20260424T023737
CREATED:20260415T090510Z
LAST-MODIFIED:20260420T150057Z
UID:10029143-1783154700-1783170000@discover-northamptonshire.co.uk
SUMMARY:Naseby Battlefield Tour
DESCRIPTION:The best way to truly understand a battle is to walk in the footsteps of those who took part. Our tours follow those footsteps and give you unique access. The Naseby Battlefield Project offers public tours of Naseby Battlefield eight times a year. \nThese tours are often enriched by friends and supporting reenactor groups bringing key-aspects of the story to life on the actual battlefield. You will be surprised who you might meet. \nThe prices for public tours start at £25.00 per person. For this price we include our specially commissioned\, and highly rated Battlefield Maps & Interpretation Booklets – which are exclusive to Battlefield Tourists. To make sure that these are available we ask for you to pre-book the Battlefield Tours. We are sorry but we cannot accept visitors on the day. \nWe limit our group sizes to around 20 people. \nPlease note: The full tour lasts about 4 hours\, and will take you across the entire battlefield\, and extends to several miles. Public Tours offer some seats in a shared mini-bus\, but some of you might prefer to use your own cars. Either way we will need vehicles to get across the whole battlefield. \nRegrettably\, dogs are not allowed on our tours as some of it involves walking through working farmland. \nTo keep up to date with Naseby Battlefield Project news and battlefield tour dates visit out Facebook page or email us at enquiries@naseby.com
URL:https://discover-northamptonshire.co.uk/event/naseby-battlefield-tour-5/
LOCATION:Naseby Battlefield\, Clipston Rd\,\, Naseby\, Northamptonshire\, NN6 6BU
CATEGORIES:History,Outdoors,Tour,Walking
ATTACH;FMTTYPE=image/jpeg:https://discover-northamptonshire.co.uk/wp-content/uploads/2026/04/301A11434-scaled.jpg
END:VEVENT
BEGIN:VEVENT
DTSTART;TZID=Europe/London:20260718T084500
DTEND;TZID=Europe/London:20260718T130000
DTSTAMP:20260424T023737
CREATED:20260415T090847Z
LAST-MODIFIED:20260420T150159Z
UID:10029144-1784364300-1784379600@discover-northamptonshire.co.uk
SUMMARY:Naseby Battlefield Tour
DESCRIPTION:The best way to truly understand a battle is to walk in the footsteps of those who took part. Our tours follow those footsteps and give you unique access. The Naseby Battlefield Project offers public tours of Naseby Battlefield eight times a year. \nThese tours are often enriched by friends and supporting reenactor groups bringing key-aspects of the story to life on the actual battlefield. You will be surprised who you might meet. \nThe prices for public tours start at £25.00 per person. For this price we include our specially commissioned\, and highly rated Battlefield Maps & Interpretation Booklets – which are exclusive to Battlefield Tourists. To make sure that these are available we ask for you to pre-book the Battlefield Tours. We are sorry but we cannot accept visitors on the day. \nWe limit our group sizes to around 20 people. \nPlease note: The full tour lasts about 4 hours\, and will take you across the entire battlefield\, and extends to several miles. Public Tours offer some seats in a shared mini-bus\, but some of you might prefer to use your own cars. Either way we will need vehicles to get across the whole battlefield. \nRegrettably\, dogs are not allowed on our tours as some of it involves walking through working farmland. \nTo keep up to date with Naseby Battlefield Project news and battlefield tour dates visit out Facebook page or email us at enquiries@naseby.com
URL:https://discover-northamptonshire.co.uk/event/naseby-battlefield-tour-6/
LOCATION:Naseby Battlefield\, Clipston Rd\,\, Naseby\, Northamptonshire\, NN6 6BU
CATEGORIES:History,Outdoors,Tour,Walking
ATTACH;FMTTYPE=image/jpeg:https://discover-northamptonshire.co.uk/wp-content/uploads/2026/04/301A11435-scaled.jpg
END:VEVENT
BEGIN:VEVENT
DTSTART;TZID=Europe/London:20260808T084500
DTEND;TZID=Europe/London:20260808T130000
DTSTAMP:20260424T023737
CREATED:20260415T091234Z
LAST-MODIFIED:20260420T150254Z
UID:10029145-1786178700-1786194000@discover-northamptonshire.co.uk
SUMMARY:Naseby Battlefield Tour
DESCRIPTION:The best way to truly understand a battle is to walk in the footsteps of those who took part. Our tours follow those footsteps and give you unique access. The Naseby Battlefield Project offers public tours of Naseby Battlefield eight times a year. \nThese tours are often enriched by friends and supporting reenactor groups bringing key-aspects of the story to life on the actual battlefield. You will be surprised who you might meet. \nThe prices for public tours start at £25.00 per person. For this price we include our specially commissioned\, and highly rated Battlefield Maps & Interpretation Booklets – which are exclusive to Battlefield Tourists. To make sure that these are available we ask for you to pre-book the Battlefield Tours. We are sorry but we cannot accept visitors on the day. \nWe limit our group sizes to around 20 people. \nPlease note: The full tour lasts about 4 hours\, and will take you across the entire battlefield\, and extends to several miles. Public Tours offer some seats in a shared mini-bus\, but some of you might prefer to use your own cars. Either way we will need vehicles to get across the whole battlefield. \nRegrettably\, dogs are not allowed on our tours as some of it involves walking through working farmland. \nTo keep up to date with Naseby Battlefield Project news and battlefield tour dates visit out Facebook page or email us at enquiries@naseby.com
URL:https://discover-northamptonshire.co.uk/event/naseby-battlefield-tour-7/
LOCATION:Naseby Battlefield\, Clipston Rd\,\, Naseby\, Northamptonshire\, NN6 6BU
CATEGORIES:History,Outdoors,Tour,Walking
ATTACH;FMTTYPE=image/jpeg:https://discover-northamptonshire.co.uk/wp-content/uploads/2026/04/301A11436-scaled.jpg
END:VEVENT
BEGIN:VEVENT
DTSTART;TZID=Europe/London:20260823T134500
DTEND;TZID=Europe/London:20260823T180000
DTSTAMP:20260424T023737
CREATED:20260415T091744Z
LAST-MODIFIED:20260420T150335Z
UID:10029146-1787492700-1787508000@discover-northamptonshire.co.uk
SUMMARY:Naseby Battlefield Tour
DESCRIPTION:The best way to truly understand a battle is to walk in the footsteps of those who took part. Our tours follow those footsteps and give you unique access. The Naseby Battlefield Project offers public tours of Naseby Battlefield eight times a year. \nThese tours are often enriched by friends and supporting reenactor groups bringing key-aspects of the story to life on the actual battlefield. You will be surprised who you might meet. \nThe prices for public tours start at £25.00 per person. For this price we include our specially commissioned\, and highly rated Battlefield Maps & Interpretation Booklets – which are exclusive to Battlefield Tourists. To make sure that these are available we ask for you to pre-book the Battlefield Tours. We are sorry but we cannot accept visitors on the day. \nWe limit our group sizes to around 20 people. \nPlease note: The full tour lasts about 4 hours\, and will take you across the entire battlefield\, and extends to several miles. Public Tours offer some seats in a shared mini-bus\, but some of you might prefer to use your own cars. Either way we will need vehicles to get across the whole battlefield. \nRegrettably\, dogs are not allowed on our tours as some of it involves walking through working farmland. \nTo keep up to date with Naseby Battlefield Project news and battlefield tour dates visit out Facebook page or email us at enquiries@naseby.com
URL:https://discover-northamptonshire.co.uk/event/naseby-battlefield-tour-8/
LOCATION:Naseby Battlefield\, Clipston Rd\,\, Naseby\, Northamptonshire\, NN6 6BU
CATEGORIES:History,Outdoors,Tour,Walking
ATTACH;FMTTYPE=image/jpeg:https://discover-northamptonshire.co.uk/wp-content/uploads/2026/04/301A11437-scaled.jpg
END:VEVENT
BEGIN:VEVENT
DTSTART;TZID=Europe/London:20260905T084500
DTEND;TZID=Europe/London:20260905T130000
DTSTAMP:20260424T023737
CREATED:20260415T092055Z
LAST-MODIFIED:20260420T150442Z
UID:10029147-1788597900-1788613200@discover-northamptonshire.co.uk
SUMMARY:Naseby Battlefield Tour
DESCRIPTION:The best way to truly understand a battle is to walk in the footsteps of those who took part. Our tours follow those footsteps and give you unique access. The Naseby Battlefield Project offers public tours of Naseby Battlefield eight times a year. \nThese tours are often enriched by friends and supporting reenactor groups bringing key-aspects of the story to life on the actual battlefield. You will be surprised who you might meet. \nThe prices for public tours start at £25.00 per person. For this price we include our specially commissioned\, and highly rated Battlefield Maps & Interpretation Booklets – which are exclusive to Battlefield Tourists. To make sure that these are available we ask for you to pre-book the Battlefield Tours. We are sorry but we cannot accept visitors on the day. \nWe limit our group sizes to around 20 people. \nPlease note: The full tour lasts about 4 hours\, and will take you across the entire battlefield\, and extends to several miles. Public Tours offer some seats in a shared mini-bus\, but some of you might prefer to use your own cars. Either way we will need vehicles to get across the whole battlefield. \nRegrettably\, dogs are not allowed on our tours as some of it involves walking through working farmland. \nTo keep up to date with Naseby Battlefield Project news and battlefield tour dates visit out Facebook page or email us at enquiries@naseby.com
URL:https://discover-northamptonshire.co.uk/event/naseby-battlefield-tour-9/
LOCATION:Naseby Battlefield\, Clipston Rd\,\, Naseby\, Northamptonshire\, NN6 6BU
CATEGORIES:History,Outdoors,Tour,Walking
ATTACH;FMTTYPE=image/jpeg:https://discover-northamptonshire.co.uk/wp-content/uploads/2026/04/301A11438-scaled.jpg
END:VEVENT
END:VCALENDAR