BEGIN:VCALENDAR
VERSION:2.0
PRODID:-//Discover Northamptonshire - ECPv6.15.18//NONSGML v1.0//EN
CALSCALE:GREGORIAN
METHOD:PUBLISH
X-WR-CALNAME:Discover Northamptonshire
X-ORIGINAL-URL:https://discover-northamptonshire.co.uk
X-WR-CALDESC:Events for Discover Northamptonshire
REFRESH-INTERVAL;VALUE=DURATION:PT1H
X-Robots-Tag:noindex
X-PUBLISHED-TTL:PT1H
BEGIN:VTIMEZONE
TZID:Europe/London
BEGIN:DAYLIGHT
TZOFFSETFROM:+0000
TZOFFSETTO:+0100
TZNAME:BST
DTSTART:20250330T010000
END:DAYLIGHT
BEGIN:STANDARD
TZOFFSETFROM:+0100
TZOFFSETTO:+0000
TZNAME:GMT
DTSTART:20251026T010000
END:STANDARD
BEGIN:DAYLIGHT
TZOFFSETFROM:+0000
TZOFFSETTO:+0100
TZNAME:BST
DTSTART:20260329T010000
END:DAYLIGHT
BEGIN:STANDARD
TZOFFSETFROM:+0100
TZOFFSETTO:+0000
TZNAME:GMT
DTSTART:20261025T010000
END:STANDARD
BEGIN:DAYLIGHT
TZOFFSETFROM:+0000
TZOFFSETTO:+0100
TZNAME:BST
DTSTART:20270328T010000
END:DAYLIGHT
BEGIN:STANDARD
TZOFFSETFROM:+0100
TZOFFSETTO:+0000
TZNAME:GMT
DTSTART:20271031T010000
END:STANDARD
END:VTIMEZONE
BEGIN:VEVENT
DTSTART;VALUE=DATE:20260411
DTEND;VALUE=DATE:20260412
DTSTAMP:20260426T003323
CREATED:20250729T204122Z
LAST-MODIFIED:20250729T204122Z
UID:10023096-1775865600-1775951999@discover-northamptonshire.co.uk
SUMMARY:Rose of the Shires Ultra
DESCRIPTION:A grand 54 mile tour of Northamptonshire’s beautiful countryside! \nThis circular route will take you through an area renowned as the second garden of England – OK Kent\, you beat us to first place! Along the way\, you will enjoy 54-miles of incredible scenery\, country trails\, roads and towpaths. \nThe route passes through the beautiful Northamptonshire countryside\, including two stunning country parks\, Salcey Forest\, the Grand Union Canal and 21 pretty villages and towns. It winds its way along parts of the Nene Way\, the Midshires Way and the Northampton Round.
URL:https://discover-northamptonshire.co.uk/event/rose-of-the-shires-ultra/
LOCATION:Northamptonshire\, Northamptonshire
CATEGORIES:Outdoors,Running,Sports
ATTACH;FMTTYPE=image/jpeg:https://discover-northamptonshire.co.uk/wp-content/uploads/2025/07/Rose-of-the-Shires-Ultra-Go-Beyond-Challenge.jpg
END:VEVENT
END:VCALENDAR