BEGIN:VCALENDAR
VERSION:2.0
PRODID:-//Discover Northamptonshire - ECPv6.15.18//NONSGML v1.0//EN
CALSCALE:GREGORIAN
METHOD:PUBLISH
X-ORIGINAL-URL:https://discover-northamptonshire.co.uk
X-WR-CALDESC:Events for Discover Northamptonshire
REFRESH-INTERVAL;VALUE=DURATION:PT1H
X-Robots-Tag:noindex
X-PUBLISHED-TTL:PT1H
BEGIN:VTIMEZONE
TZID:Europe/London
BEGIN:DAYLIGHT
TZOFFSETFROM:+0000
TZOFFSETTO:+0100
TZNAME:BST
DTSTART:20250330T010000
END:DAYLIGHT
BEGIN:STANDARD
TZOFFSETFROM:+0100
TZOFFSETTO:+0000
TZNAME:GMT
DTSTART:20251026T010000
END:STANDARD
BEGIN:DAYLIGHT
TZOFFSETFROM:+0000
TZOFFSETTO:+0100
TZNAME:BST
DTSTART:20260329T010000
END:DAYLIGHT
BEGIN:STANDARD
TZOFFSETFROM:+0100
TZOFFSETTO:+0000
TZNAME:GMT
DTSTART:20261025T010000
END:STANDARD
BEGIN:DAYLIGHT
TZOFFSETFROM:+0000
TZOFFSETTO:+0100
TZNAME:BST
DTSTART:20270328T010000
END:DAYLIGHT
BEGIN:STANDARD
TZOFFSETFROM:+0100
TZOFFSETTO:+0000
TZNAME:GMT
DTSTART:20271031T010000
END:STANDARD
END:VTIMEZONE
BEGIN:VEVENT
DTSTART;TZID=Europe/London:20260620T093000
DTEND;TZID=Europe/London:20260620T130000
DTSTAMP:20260426T001329
CREATED:20260129T101852Z
LAST-MODIFIED:20260130T091855Z
UID:10025557-1781947800-1781960400@discover-northamptonshire.co.uk
SUMMARY:Raunds Saturday Market
DESCRIPTION:Stalls and free entertainment\n9.30am – 1pm
URL:https://discover-northamptonshire.co.uk/event/raunds-saturday-market-2/
LOCATION:Raunds Town Square\, High St\,\, Raunds\, Northamptonshire
CATEGORIES:Free,Market,Summer
ATTACH;FMTTYPE=image/jpeg:https://discover-northamptonshire.co.uk/wp-content/uploads/2026/01/Saturday-Market-Banner-20261.jpg
END:VEVENT
BEGIN:VEVENT
DTSTART;TZID=Europe/London:20260718T093000
DTEND;TZID=Europe/London:20260718T130000
DTSTAMP:20260426T001329
CREATED:20260129T102257Z
LAST-MODIFIED:20260130T091944Z
UID:10025558-1784367000-1784379600@discover-northamptonshire.co.uk
SUMMARY:Raunds Saturday Market
DESCRIPTION:Stalls and free entertainment\n9.30am – 1pm
URL:https://discover-northamptonshire.co.uk/event/raunds-saturday-market-3/
LOCATION:Raunds Town Square\, High St\,\, Raunds\, Northamptonshire
CATEGORIES:Free,Market,Summer
ATTACH;FMTTYPE=image/jpeg:https://discover-northamptonshire.co.uk/wp-content/uploads/2026/01/Saturday-Market-Banner-20262.jpg
END:VEVENT
BEGIN:VEVENT
DTSTART;TZID=Europe/London:20260815T093000
DTEND;TZID=Europe/London:20260815T130000
DTSTAMP:20260426T001329
CREATED:20260129T102408Z
LAST-MODIFIED:20260130T092032Z
UID:10025559-1786786200-1786798800@discover-northamptonshire.co.uk
SUMMARY:Raunds Saturday Market
DESCRIPTION:Stalls and free entertainment\n9.30am – 1pm
URL:https://discover-northamptonshire.co.uk/event/raunds-saturday-market-4/
LOCATION:Raunds Town Square\, High St\,\, Raunds\, Northamptonshire
CATEGORIES:Free,Market,Summer
ATTACH;FMTTYPE=image/jpeg:https://discover-northamptonshire.co.uk/wp-content/uploads/2026/01/Saturday-Market-Banner-20262.jpg
END:VEVENT
BEGIN:VEVENT
DTSTART;TZID=Europe/London:20260919T093000
DTEND;TZID=Europe/London:20260919T130000
DTSTAMP:20260426T001329
CREATED:20260129T102654Z
LAST-MODIFIED:20260130T092111Z
UID:10025560-1789810200-1789822800@discover-northamptonshire.co.uk
SUMMARY:Raunds Saturday Market
DESCRIPTION:Stalls and free entertainment\n9.30am – 1pm
URL:https://discover-northamptonshire.co.uk/event/raunds-saturday-market-5/
LOCATION:Raunds Town Square\, High St\,\, Raunds\, Northamptonshire
CATEGORIES:Free,Market
ATTACH;FMTTYPE=image/jpeg:https://discover-northamptonshire.co.uk/wp-content/uploads/2026/01/Saturday-Market-Banner-20263.jpg
END:VEVENT
BEGIN:VEVENT
DTSTART;TZID=Europe/London:20261129T140000
DTEND;TZID=Europe/London:20261129T190000
DTSTAMP:20260426T001329
CREATED:20260129T101334Z
LAST-MODIFIED:20260130T091720Z
UID:10025555-1795960800-1795978800@discover-northamptonshire.co.uk
SUMMARY:Raunds Christmas Market and Light Switch-On
DESCRIPTION:Santa’s Parade: Leaves the Town Hall at 2:45 PM \nLive Entertainment Kicks Off: Starting at 3:00 PM \nThe Big Switch-On: Lights go on at 6:00 PM! \nDon’t Miss: \nLive Music: \nAnimal Fun: Adorable Petting Farm \nMeet & Greet: Characters \nThrills: Classic Fair Rides \nShop & Eat: A wide variety of craft & food stalls
URL:https://discover-northamptonshire.co.uk/event/raunds-christmas-market-and-light-switch-on/
LOCATION:Raunds Town Square\, High St\,\, Raunds\, Northamptonshire
CATEGORIES:Christmas,Market,Winter
ATTACH;FMTTYPE=image/jpeg:https://discover-northamptonshire.co.uk/wp-content/uploads/2026/01/save-the-date.jpg
END:VEVENT
END:VCALENDAR