BEGIN:VCALENDAR
VERSION:2.0
PRODID:-//Discover Northamptonshire - ECPv6.15.18//NONSGML v1.0//EN
CALSCALE:GREGORIAN
METHOD:PUBLISH
X-WR-CALNAME:Discover Northamptonshire
X-ORIGINAL-URL:https://discover-northamptonshire.co.uk
X-WR-CALDESC:Events for Discover Northamptonshire
REFRESH-INTERVAL;VALUE=DURATION:PT1H
X-Robots-Tag:noindex
X-PUBLISHED-TTL:PT1H
BEGIN:VTIMEZONE
TZID:Europe/London
BEGIN:DAYLIGHT
TZOFFSETFROM:+0000
TZOFFSETTO:+0100
TZNAME:BST
DTSTART:20250330T010000
END:DAYLIGHT
BEGIN:STANDARD
TZOFFSETFROM:+0100
TZOFFSETTO:+0000
TZNAME:GMT
DTSTART:20251026T010000
END:STANDARD
BEGIN:DAYLIGHT
TZOFFSETFROM:+0000
TZOFFSETTO:+0100
TZNAME:BST
DTSTART:20260329T010000
END:DAYLIGHT
BEGIN:STANDARD
TZOFFSETFROM:+0100
TZOFFSETTO:+0000
TZNAME:GMT
DTSTART:20261025T010000
END:STANDARD
BEGIN:DAYLIGHT
TZOFFSETFROM:+0000
TZOFFSETTO:+0100
TZNAME:BST
DTSTART:20270328T010000
END:DAYLIGHT
BEGIN:STANDARD
TZOFFSETFROM:+0100
TZOFFSETTO:+0000
TZNAME:GMT
DTSTART:20271031T010000
END:STANDARD
END:VTIMEZONE
BEGIN:VEVENT
DTSTART;TZID=Europe/London:20260606T140000
DTEND;TZID=Europe/London:20260606T213000
DTSTAMP:20260426T003324
CREATED:20260420T133220Z
LAST-MODIFIED:20260420T154123Z
UID:10029164-1780754400-1780781400@discover-northamptonshire.co.uk
SUMMARY:Comedy Crate Festival 2026 - Part One
DESCRIPTION:3 Venues – The Charles Bradlaugh\, The Black Prince and The Lamplighter \n15 acts in total across the day. You’ll get to see a maximum of 5 shows\, choosing between the 15 acts. It will be wristband entry. Collection of wristbands will be on the day\, giving you access to all venues. All the shows will be Edinburgh Previews or Work in Progress shows. These are great opportunities to see acts try out some new stuff in preparation for their Edinburgh runs and upcoming tour shows. Each show will be roughly 1 hour long. There will also be half hour intervals between each show\, with a 1 hour interval after the 2nd show to allow for a decent food break.
URL:https://discover-northamptonshire.co.uk/event/comedy-crate-festival-2026-part-one/
LOCATION:The Charles Bradlaugh\, 1 Earl St\,\, Northampton\, Northamptonshire\, NN1 3AU
CATEGORIES:Comedy
ATTACH;FMTTYPE=image/jpeg:https://discover-northamptonshire.co.uk/wp-content/uploads/2026/04/All-Dayer-June-Square-1.jpg
END:VEVENT
END:VCALENDAR